{"text_format":"1","workbook":"xlsx","n_sheets":3,"sheets":["Board","Instructions","Ref"],"not_rendered":{"charts":0,"images":4,"macros":1,"external_links":0,"defined_names":0,"comments":0,"pivot_tables":0},"unopened":[],"bounds":{"document_bytes":16777216,"sheet_cells":100000,"rows_first":2000,"rows_last":500,"rows_between":2000,"halvings":0,"cell_chars":16384,"cell_head_chars":4096},"cells_cut":0,"cells_raw":0,"read":"whole","date_system":"1900"}

{"sheet":"Board","index":0,"n_rows":13,"n_cols":18,"rows_kept":13,"cut":false,"hidden":false,"merged":[]}
[]
[null,"X","X","X","X","x",null,null,null,null,null,null,"x","x","x","x","x"]
[null,"X",null,null,null,"X",null,null,null,null,null,null,"x",null,null,null,"x"]
[null,"X",null,"X",null,"X",null,null,"x","x","x","x","x",null,"x",null,"x"]
[null,"X",null,"X",null,"X",null,null,"x",null,null,null,"x",null,"x",null,"x"]
[null,null,null,"X",null,"X","X","X","X",null,"x",null,"x",null,"x",null,"x","x"]
["X",null,"X","X",null,"x",null,null,null,null,"x",null,null,"F","x",null,null,"x"]
[null,null,null,"X",null,"X",null,"X","X","x","x","x","x","x","x","x",null,"x"]
[null,"x",null,"X",null,null,null,"X",null,null,null,"x",null,null,null,null,null,"x"]
["S","x",null,"X","X","X","X","X",null,"x",null,"x",null,"x","x","x","x","x"]
[null,"x",null,null,null,null,null,null,null,"x",null,"x",null,"x"]
[null,"x","x","x","x","x","x","x","x","x",null,null,null,"x"]
[null,null,null,null,null,null,null,null,null,"x","x","x","x","x"]

{"sheet":"Instructions","index":1,"n_rows":0,"n_cols":0,"rows_kept":0,"cut":false,"hidden":false,"merged":[]}

{"sheet":"Ref","index":2,"n_rows":12,"n_cols":728,"rows_kept":12,"cut":false,"hidden":true,"merged":[]}
["Current Row",10]
["Current Column",1]
[{"$f":"COUNTIF(Board!$1:$1048576,\"S\")","v":1}]
[{"$f":"IF(SUM(3:3)>1,TRUE,FALSE)","v":false},{"$f":"IF(SUM(3:3)<1,TRUE,FALSE)","v":false}]
[{"$f":"IFERROR(MATCH(\"S\",Board!A:A,0),\"\")","v":10},{"$f":"IFERROR(MATCH(\"S\",Board!B:B,0),\"\")","v":""},{"$f":"IFERROR(MATCH(\"S\",Board!C:C,0),\"\")","v":""},{"$f":"IFERROR(MATCH(\"S\",Board!D:D,0),\"\")","v":""},{"$f":"IFERROR(MATCH(\"S\",Board!E:E,0),\"\")","v":""},{"$f":"IFERROR(MATCH(\"S\",Board!F:F,0),\"\")","v":""},{"$f":"IFERROR(MATCH(\"S\",Board!G:G,0),\"\")","v":""},{"$f":"IFERROR(MATCH(\"S\",Board!H:H,0),\"\")","v":""},{"$f":"IFERROR(MATCH(\"S\",Board!I:I,0),\"\")","v":""},{"$f":"IFERROR(MATCH(\"S\",Board!J:J,0),\"\")","v":""},{"$f":"IFERROR(MATCH(\"S\",Board!K:K,0),\"\")","v":""},{"$f":"IFERROR(MATCH(\"S\",Board!L:L,0),\"\")","v":""},{"$f":"IFERROR(MATCH(\"S\",Board!M:M,0),\"\")","v":""},{"$f":"IFERROR(MATCH(\"S\",Board!N:N,0),\"\")","v":""},{"$f":"IFERROR(MATCH(\"S\",Board!O:O,0),\"\")","v":""},{"$f":"IFERROR(MATCH(\"S\",Board!P:P,0),\"\")","v":""},{"$f":"IFERROR(MATCH(\"S\",Board!Q:Q,0),\"\")","v":""},{"$f":"IFERROR(MATCH(\"S\",Board!R:R,0),\"\")","v":""},{"$f":"IFERROR(MATCH(\"S\",Board!S:S,0),\"\")","v":""},{"$f":"IFERROR(MATCH(\"S\",Board!T:T,0),\"\")","v":""},{"$f":"IFERROR(MATCH(\"S\",Board!U:U,0),\"\")","v":""},{"$f":"IFERROR(MATCH(\"S\",Board!V:V,0),\"\")","v":""},{"$f":"IFERROR(MATCH(\"S\",Board!W:W,0),\"\")","v":""},{"$f":"IFERROR(MATCH(\"S\",Board!X:X,0),\"\")","v":""},{"$f":"IFERROR(MATCH(\"S\",Board!Y:Y,0),\"\")","v":""},{"$f":"IFERROR(MATCH(\"S\",Board!Z:Z,0),\"\")","v":""},{"$f":"IFERROR(MATCH(\"S\",Board!AA:AA,0),\"\")","v":""},{"$f":"IFERROR(MATCH(\"S\",Board!AB:AB,0),\"\")","v":""},{"$f":"IFERROR(MATCH(\"S\",Board!AC:AC,0),\"\")","v":""},{"$f":"IFERROR(MATCH(\"S\",Board!AD:AD,0),\"\")","v":""},{"$f":"IFERROR(MATCH(\"S\",Board!AE:AE,0),\"\")","v":""},{"$f":"IFERROR(MATCH(\"S\",Board!AF:AF,0),\"\")","v":""},{"$f":"IFERROR(MATCH(\"S\",Board!AG:AG,0),\"\")","v":""},{"$f":"IFERROR(MATCH(\"S\",Board!AH:AH,0),\"\")","v":""},{"$f":"IFERROR(MATCH(\"S\",Board!AI:AI,0),\"\")","v":""},{"$f":"IFERROR(MATCH(\"S\",Board!AJ:AJ,0),\"\")","v":""},{"$f":"IFERROR(MATCH(\"S\",Board!AK:AK,0),\"\")","v":""},{"$f":"IFERROR(MATCH(\"S\",Board!AL:AL,0),\"\")","v":""},{"$f":"IFERROR(MATCH(\"S\",Board!AM:AM,0),\"\")","v":""},{"$f":"IFERROR(MATCH(\"S\",Board!AN:AN,0),\"\")","v":""},{"$f":"IFERROR(MATCH(\"S\",Board!AO:AO,0),\"\")","v":""},{"$f":"IFERROR(MATCH(\"S\",Board!AP:AP,0),\"\")","v":""},{"$f":"IFERROR(MATCH(\"S\",Board!AQ:AQ,0),\"\")","v":""},{"$f":"IFERROR(MATCH(\"S\",Board!AR:AR,0),\"\")","v":""},{"$f":"IFERROR(MATCH(\"S\",Board!AS:AS,0),\"\")","v":""},{"$f":"IFERROR(MATCH(\"S\",Board!AT:AT,0),\"\")","v":""},{"$f":"IFERROR(MATCH(\"S\",Board!AU:AU,0),\"\")","v":""},{"$f":"IFERROR(MATCH(\"S\",Board!AV:AV,0),\"\")","v":""},{"$f":"IFERROR(MATCH(\"S\",Board!AW:AW,0),\"\")","v":""},{"$f":"IFERROR(MATCH(\"S\",Board!AX:AX,0),\"\")","v":""},{"$f":"IFERROR(MATCH(\"S\",Board!AY:AY,0),\"\")","v":""},{"$f":"IFERROR(MATCH(\"S\",Board!AZ:AZ,0),\"\")","v":""},{"$f":"IFERROR(MATCH(\"S\",Board!BA:BA,0),\"\")","v":""},{"$f":"IFERROR(MATCH(\"S\",Board!BB:BB,0),\"\")","v":""},{"$f":"IFERROR(MATCH(\"S\",Board!BC:BC,0),\"\")","v":""},{"$f":"IFERROR(MATCH(\"S\",Board!BD:BD,0),\"\")","v":""},{"$f":"IFERROR(MATCH(\"S\",Board!BE:BE,0),\"\")","v":""},{"$f":"IFERROR(MATCH(\"S\",Board!BF:BF,0),\"\")","v":""},{"$f":"IFERROR(MATCH(\"S\",Board!BG:BG,0),\"\")","v":""},{"$f":"IFERROR(MATCH(\"S\",Board!BH:BH,0),\"\")","v":""},{"$f":"IFERROR(MATCH(\"S\",Board!BI:BI,0),\"\")","v":""},{"$f":"IFERROR(MATCH(\"S\",Board!BJ:BJ,0),\"\")","v":""},{"$f":"IFERROR(MATCH(\"S\",Board!BK:BK,0),\"\")","v":""},{"$f":"IFERROR(MATCH(\"S\",Board!BL:BL,0),\"\")","v":""},{"$f":"IFERROR(MATCH(\"S\",Board!BM:BM,0),\"\")","v":""},{"$f":"IFERROR(MATCH(\"S\",Board!BN:BN,0),\"\")","v":""},{"$f":"IFERROR(MATCH(\"S\",Board!BO:BO,0),\"\")","v":""},{"$f":"IFERROR(MATCH(\"S\",Board!BP:BP,0),\"\")","v":""},{"$f":"IFERROR(MATCH(\"S\",Board!BQ:BQ,0),\"\")","v":""},{"$f":"IFERROR(MATCH(\"S\",Board!BR:BR,0),\"\")","v":""},{"$f":"IFERROR(MATCH(\"S\",Board!BS:BS,0),\"\")","v":""},{"$f":"IFERROR(MATCH(\"S\",Board!BT:BT,0),\"\")","v":""},{"$f":"IFERROR(MATCH(\"S\",Board!BU:BU,0),\"\")","v":""},{"$f":"IFERROR(MATCH(\"S\",Board!BV:BV,0),\"\")","v":""},{"$f":"IFERROR(MATCH(\"S\",Board!BW:BW,0),\"\")","v":""},{"$f":"IFERROR(MATCH(\"S\",Board!BX:BX,0),\"\")","v":""},{"$f":"IFERROR(MATCH(\"S\",Board!BY:BY,0),\"\")","v":""},{"$f":"IFERROR(MATCH(\"S\",Board!BZ:BZ,0),\"\")","v":""},{"$f":"IFERROR(MATCH(\"S\",Board!CA:CA,0),\"\")","v":""},{"$f":"IFERROR(MATCH(\"S\",Board!CB:CB,0),\"\")","v":""},{"$f":"IFERROR(MATCH(\"S\",Board!CC:CC,0),\"\")","v":""},{"$f":"IFERROR(MATCH(\"S\",Board!CD:CD,0),\"\")","v":""},{"$f":"IFERROR(MATCH(\"S\",Board!CE:CE,0),\"\")","v":""},{"$f":"IFERROR(MATCH(\"S\",Board!CF:CF,0),\"\")","v":""},{"$f":"IFERROR(MATCH(\"S\",Board!CG:CG,0),\"\")","v":""},{"$f":"IFERROR(MATCH(\"S\",Board!CH:CH,0),\"\")","v":""},{"$f":"IFERROR(MATCH(\"S\",Board!CI:CI,0),\"\")","v":""},{"$f":"IFERROR(MATCH(\"S\",Board!CJ:CJ,0),\"\")","v":""},{"$f":"IFERROR(MATCH(\"S\",Board!CK:CK,0),\"\")","v":""},{"$f":"IFERROR(MATCH(\"S\",Board!CL:CL,0),\"\")","v":""},{"$f":"IFERROR(MATCH(\"S\",Board!CM:CM,0),\"\")","v":""},{"$f":"IFERROR(MATCH(\"S\",Board!CN:CN,0),\"\")","v":""},{"$f":"IFERROR(MATCH(\"S\",Board!CO:CO,0),\"\")","v":""},{"$f":"IFERROR(MATCH(\"S\",Board!CP:CP,0),\"\")","v":""},{"$f":"IFERROR(MATCH(\"S\",Board!CQ:CQ,0),\"\")","v":""},{"$f":"IFERROR(MATCH(\"S\",Board!CR:CR,0),\"\")","v":""},{"$f":"IFERROR(MATCH(\"S\",Board!CS:CS,0),\"\")","v":""},{"$f":"IFERROR(MATCH(\"S\",Board!CT:CT,0),\"\")","v":""},{"$f":"IFERROR(MATCH(\"S\",Board!CU:CU,0),\"\")","v":""},{"$f":"IFERROR(MATCH(\"S\",Board!CV:CV,0),\"\")","v":""},{"$f":"IFERROR(MATCH(\"S\",Board!CW:CW,0),\"\")","v":""},{"$f":"IFERROR(MATCH(\"S\",Board!CX:CX,0),\"\")","v":""},{"$f":"IFERROR(MATCH(\"S\",Board!CY:CY,0),\"\")","v":""},{"$f":"IFERROR(MATCH(\"S\",Board!CZ:CZ,0),\"\")","v":""},{"$f":"IFERROR(MATCH(\"S\",Board!DA:DA,0),\"\")","v":""},{"$f":"IFERROR(MATCH(\"S\",Board!DB:DB,0),\"\")","v":""},{"$f":"IFERROR(MATCH(\"S\",Board!DC:DC,0),\"\")","v":""},{"$f":"IFERROR(MATCH(\"S\",Board!DD:DD,0),\"\")","v":""},{"$f":"IFERROR(MATCH(\"S\",Board!DE:DE,0),\"\")","v":""},{"$f":"IFERROR(MATCH(\"S\",Board!DF:DF,0),\"\")","v":""},{"$f":"IFERROR(MATCH(\"S\",Board!DG:DG,0),\"\")","v":""},{"$f":"IFERROR(MATCH(\"S\",Board!DH:DH,0),\"\")","v":""},{"$f":"IFERROR(MATCH(\"S\",Board!DI:DI,0),\"\")","v":""},{"$f":"IFERROR(MATCH(\"S\",Board!DJ:DJ,0),\"\")","v":""},{"$f":"IFERROR(MATCH(\"S\",Board!DK:DK,0),\"\")","v":""},{"$f":"IFERROR(MATCH(\"S\",Board!DL:DL,0),\"\")","v":""},{"$f":"IFERROR(MATCH(\"S\",Board!DM:DM,0),\"\")","v":""},{"$f":"IFERROR(MATCH(\"S\",Board!DN:DN,0),\"\")","v":""},{"$f":"IFERROR(MATCH(\"S\",Board!DO:DO,0),\"\")","v":""},{"$f":"IFERROR(MATCH(\"S\",Board!DP:DP,0),\"\")","v":""},{"$f":"IFERROR(MATCH(\"S\",Board!DQ:DQ,0),\"\")","v":""},{"$f":"IFERROR(MATCH(\"S\",Board!DR:DR,0),\"\")","v":""},{"$f":"IFERROR(MATCH(\"S\",Board!DS:DS,0),\"\")","v":""},{"$f":"IFERROR(MATCH(\"S\",Board!DT:DT,0),\"\")","v":""},{"$f":"IFERROR(MATCH(\"S\",Board!DU:DU,0),\"\")","v":""},{"$f":"IFERROR(MATCH(\"S\",Board!DV:DV,0),\"\")","v":""},{"$f":"IFERROR(MATCH(\"S\",Board!DW:DW,0),\"\")","v":""},{"$f":"IFERROR(MATCH(\"S\",Board!DX:DX,0),\"\")","v":""},{"$f":"IFERROR(MATCH(\"S\",Board!DY:DY,0),\"\")","v":""},{"$f":"IFERROR(MATCH(\"S\",Board!DZ:DZ,0),\"\")","v":""},{"$f":"IFERROR(MATCH(\"S\",Board!EA:EA,0),\"\")","v":""},{"$f":"IFERROR(MATCH(\"S\",Board!EB:EB,0),\"\")","v":""},{"$f":"IFERROR(MATCH(\"S\",Board!EC:EC,0),\"\")","v":""},{"$f":"IFERROR(MATCH(\"S\",Board!ED:ED,0),\"\")","v":""},{"$f":"IFERROR(MATCH(\"S\",Board!EE:EE,0),\"\")","v":""},{"$f":"IFERROR(MATCH(\"S\",Board!EF:EF,0),\"\")","v":""},{"$f":"IFERROR(MATCH(\"S\",Board!EG:EG,0),\"\")","v":""},{"$f":"IFERROR(MATCH(\"S\",Board!EH:EH,0),\"\")","v":""},{"$f":"IFERROR(MATCH(\"S\",Board!EI:EI,0),\"\")","v":""},{"$f":"IFERROR(MATCH(\"S\",Board!EJ:EJ,0),\"\")","v":""},{"$f":"IFERROR(MATCH(\"S\",Board!EK:EK,0),\"\")","v":""},{"$f":"IFERROR(MATCH(\"S\",Board!EL:EL,0),\"\")","v":""},{"$f":"IFERROR(MATCH(\"S\",Board!EM:EM,0),\"\")","v":""},{"$f":"IFERROR(MATCH(\"S\",Board!EN:EN,0),\"\")","v":""},{"$f":"IFERROR(MATCH(\"S\",Board!EO:EO,0),\"\")","v":""},{"$f":"IFERROR(MATCH(\"S\",Board!EP:EP,0),\"\")","v":""},{"$f":"IFERROR(MATCH(\"S\",Board!EQ:EQ,0),\"\")","v":""},{"$f":"IFERROR(MATCH(\"S\",Board!ER:ER,0),\"\")","v":""},{"$f":"IFERROR(MATCH(\"S\",Board!ES:ES,0),\"\")","v":""},{"$f":"IFERROR(MATCH(\"S\",Board!ET:ET,0),\"\")","v":""},{"$f":"IFERROR(MATCH(\"S\",Board!EU:EU,0),\"\")","v":""},{"$f":"IFERROR(MATCH(\"S\",Board!EV:EV,0),\"\")","v":""},{"$f":"IFERROR(MATCH(\"S\",Board!EW:EW,0),\"\")","v":""},{"$f":"IFERROR(MATCH(\"S\",Board!EX:EX,0),\"\")","v":""},{"$f":"IFERROR(MATCH(\"S\",Board!EY:EY,0),\"\")","v":""},{"$f":"IFERROR(MATCH(\"S\",Board!EZ:EZ,0),\"\")","v":""},{"$f":"IFERROR(MATCH(\"S\",Board!FA:FA,0),\"\")","v":""},{"$f":"IFERROR(MATCH(\"S\",Board!FB:FB,0),\"\")","v":""},{"$f":"IFERROR(MATCH(\"S\",Board!FC:FC,0),\"\")","v":""},{"$f":"IFERROR(MATCH(\"S\",Board!FD:FD,0),\"\")","v":""},{"$f":"IFERROR(MATCH(\"S\",Board!FE:FE,0),\"\")","v":""},{"$f":"IFERROR(MATCH(\"S\",Board!FF:FF,0),\"\")","v":""},{"$f":"IFERROR(MATCH(\"S\",Board!FG:FG,0),\"\")","v":""},{"$f":"IFERROR(MATCH(\"S\",Board!FH:FH,0),\"\")","v":""},{"$f":"IFERROR(MATCH(\"S\",Board!FI:FI,0),\"\")","v":""},{"$f":"IFERROR(MATCH(\"S\",Board!FJ:FJ,0),\"\")","v":""},{"$f":"IFERROR(MATCH(\"S\",Board!FK:FK,0),\"\")","v":""},{"$f":"IFERROR(MATCH(\"S\",Board!FL:FL,0),\"\")","v":""},{"$f":"IFERROR(MATCH(\"S\",Board!FM:FM,0),\"\")","v":""},{"$f":"IFERROR(MATCH(\"S\",Board!FN:FN,0),\"\")","v":""},{"$f":"IFERROR(MATCH(\"S\",Board!FO:FO,0),\"\")","v":""},{"$f":"IFERROR(MATCH(\"S\",Board!FP:FP,0),\"\")","v":""},{"$f":"IFERROR(MATCH(\"S\",Board!FQ:FQ,0),\"\")","v":""},{"$f":"IFERROR(MATCH(\"S\",Board!FR:FR,0),\"\")","v":""},{"$f":"IFERROR(MATCH(\"S\",Board!FS:FS,0),\"\")","v":""},{"$f":"IFERROR(MATCH(\"S\",Board!FT:FT,0),\"\")","v":""},{"$f":"IFERROR(MATCH(\"S\",Board!FU:FU,0),\"\")","v":""},{"$f":"IFERROR(MATCH(\"S\",Board!FV:FV,0),\"\")","v":""},{"$f":"IFERROR(MATCH(\"S\",Board!FW:FW,0),\"\")","v":""},{"$f":"IFERROR(MATCH(\"S\",Board!FX:FX,0),\"\")","v":""},{"$f":"IFERROR(MATCH(\"S\",Board!FY:FY,0),\"\")","v":""},{"$f":"IFERROR(MATCH(\"S\",Board!FZ:FZ,0),\"\")","v":""},{"$f":"IFERROR(MATCH(\"S\",Board!GA:GA,0),\"\")","v":""},{"$f":"IFERROR(MATCH(\"S\",Board!GB:GB,0),\"\")","v":""},{"$f":"IFERROR(MATCH(\"S\",Board!GC:GC,0),\"\")","v":""},{"$f":"IFERROR(MATCH(\"S\",Board!GD:GD,0),\"\")","v":""},{"$f":"IFERROR(MATCH(\"S\",Board!GE:GE,0),\"\")","v":""},{"$f":"IFERROR(MATCH(\"S\",Board!GF:GF,0),\"\")","v":""},{"$f":"IFERROR(MATCH(\"S\",Board!GG:GG,0),\"\")","v":""},{"$f":"IFERROR(MATCH(\"S\",Board!GH:GH,0),\"\")","v":""},{"$f":"IFERROR(MATCH(\"S\",Board!GI:GI,0),\"\")","v":""},{"$f":"IFERROR(MATCH(\"S\",Board!GJ:GJ,0),\"\")","v":""},{"$f":"IFERROR(MATCH(\"S\",Board!GK:GK,0),\"\")","v":""},{"$f":"IFERROR(MATCH(\"S\",Board!GL:GL,0),\"\")","v":""},{"$f":"IFERROR(MATCH(\"S\",Board!GM:GM,0),\"\")","v":""},{"$f":"IFERROR(MATCH(\"S\",Board!GN:GN,0),\"\")","v":""},{"$f":"IFERROR(MATCH(\"S\",Board!GO:GO,0),\"\")","v":""},{"$f":"IFERROR(MATCH(\"S\",Board!GP:GP,0),\"\")","v":""},{"$f":"IFERROR(MATCH(\"S\",Board!GQ:GQ,0),\"\")","v":""},{"$f":"IFERROR(MATCH(\"S\",Board!GR:GR,0),\"\")","v":""},{"$f":"IFERROR(MATCH(\"S\",Board!GS:GS,0),\"\")","v":""},{"$f":"IFERROR(MATCH(\"S\",Board!GT:GT,0),\"\")","v":""},{"$f":"IFERROR(MATCH(\"S\",Board!GU:GU,0),\"\")","v":""},{"$f":"IFERROR(MATCH(\"S\",Board!GV:GV,0),\"\")","v":""},{"$f":"IFERROR(MATCH(\"S\",Board!GW:GW,0),\"\")","v":""},{"$f":"IFERROR(MATCH(\"S\",Board!GX:GX,0),\"\")","v":""},{"$f":"IFERROR(MATCH(\"S\",Board!GY:GY,0),\"\")","v":""},{"$f":"IFERROR(MATCH(\"S\",Board!GZ:GZ,0),\"\")","v":""},{"$f":"IFERROR(MATCH(\"S\",Board!HA:HA,0),\"\")","v":""},{"$f":"IFERROR(MATCH(\"S\",Board!HB:HB,0),\"\")","v":""},{"$f":"IFERROR(MATCH(\"S\",Board!HC:HC,0),\"\")","v":""},{"$f":"IFERROR(MATCH(\"S\",Board!HD:HD,0),\"\")","v":""},{"$f":"IFERROR(MATCH(\"S\",Board!HE:HE,0),\"\")","v":""},{"$f":"IFERROR(MATCH(\"S\",Board!HF:HF,0),\"\")","v":""},{"$f":"IFERROR(MATCH(\"S\",Board!HG:HG,0),\"\")","v":""},{"$f":"IFERROR(MATCH(\"S\",Board!HH:HH,0),\"\")","v":""},{"$f":"IFERROR(MATCH(\"S\",Board!HI:HI,0),\"\")","v":""},{"$f":"IFERROR(MATCH(\"S\",Board!HJ:HJ,0),\"\")","v":""},{"$f":"IFERROR(MATCH(\"S\",Board!HK:HK,0),\"\")","v":""},{"$f":"IFERROR(MATCH(\"S\",Board!HL:HL,0),\"\")","v":""},{"$f":"IFERROR(MATCH(\"S\",Board!HM:HM,0),\"\")","v":""},{"$f":"IFERROR(MATCH(\"S\",Board!HN:HN,0),\"\")","v":""},{"$f":"IFERROR(MATCH(\"S\",Board!HO:HO,0),\"\")","v":""},{"$f":"IFERROR(MATCH(\"S\",Board!HP:HP,0),\"\")","v":""},{"$f":"IFERROR(MATCH(\"S\",Board!HQ:HQ,0),\"\")","v":""},{"$f":"IFERROR(MATCH(\"S\",Board!HR:HR,0),\"\")","v":""},{"$f":"IFERROR(MATCH(\"S\",Board!HS:HS,0),\"\")","v":""},{"$f":"IFERROR(MATCH(\"S\",Board!HT:HT,0),\"\")","v":""},{"$f":"IFERROR(MATCH(\"S\",Board!HU:HU,0),\"\")","v":""},{"$f":"IFERROR(MATCH(\"S\",Board!HV:HV,0),\"\")","v":""},{"$f":"IFERROR(MATCH(\"S\",Board!HW:HW,0),\"\")","v":""},{"$f":"IFERROR(MATCH(\"S\",Board!HX:HX,0),\"\")","v":""},{"$f":"IFERROR(MATCH(\"S\",Board!HY:HY,0),\"\")","v":""},{"$f":"IFERROR(MATCH(\"S\",Board!HZ:HZ,0),\"\")","v":""},{"$f":"IFERROR(MATCH(\"S\",Board!IA:IA,0),\"\")","v":""},{"$f":"IFERROR(MATCH(\"S\",Board!IB:IB,0),\"\")","v":""},{"$f":"IFERROR(MATCH(\"S\",Board!IC:IC,0),\"\")","v":""},{"$f":"IFERROR(MATCH(\"S\",Board!ID:ID,0),\"\")","v":""},{"$f":"IFERROR(MATCH(\"S\",Board!IE:IE,0),\"\")","v":""},{"$f":"IFERROR(MATCH(\"S\",Board!IF:IF,0),\"\")","v":""},{"$f":"IFERROR(MATCH(\"S\",Board!IG:IG,0),\"\")","v":""},{"$f":"IFERROR(MATCH(\"S\",Board!IH:IH,0),\"\")","v":""},{"$f":"IFERROR(MATCH(\"S\",Board!II:II,0),\"\")","v":""},{"$f":"IFERROR(MATCH(\"S\",Board!IJ:IJ,0),\"\")","v":""},{"$f":"IFERROR(MATCH(\"S\",Board!IK:IK,0),\"\")","v":""},{"$f":"IFERROR(MATCH(\"S\",Board!IL:IL,0),\"\")","v":""},{"$f":"IFERROR(MATCH(\"S\",Board!IM:IM,0),\"\")","v":""},{"$f":"IFERROR(MATCH(\"S\",Board!IN:IN,0),\"\")","v":""},{"$f":"IFERROR(MATCH(\"S\",Board!IO:IO,0),\"\")","v":""},{"$f":"IFERROR(MATCH(\"S\",Board!IP:IP,0),\"\")","v":""},{"$f":"IFERROR(MATCH(\"S\",Board!IQ:IQ,0),\"\")","v":""},{"$f":"IFERROR(MATCH(\"S\",Board!IR:IR,0),\"\")","v":""},{"$f":"IFERROR(MATCH(\"S\",Board!IS:IS,0),\"\")","v":""},{"$f":"IFERROR(MATCH(\"S\",Board!IT:IT,0),\"\")","v":""},{"$f":"IFERROR(MATCH(\"S\",Board!IU:IU,0),\"\")","v":""},{"$f":"IFERROR(MATCH(\"S\",Board!IV:IV,0),\"\")","v":""},{"$f":"IFERROR(MATCH(\"S\",Board!IW:IW,0),\"\")","v":""},{"$f":"IFERROR(MATCH(\"S\",Board!IX:IX,0),\"\")","v":""},{"$f":"IFERROR(MATCH(\"S\",Board!IY:IY,0),\"\")","v":""},{"$f":"IFERROR(MATCH(\"S\",Board!IZ:IZ,0),\"\")","v":""},{"$f":"IFERROR(MATCH(\"S\",Board!JA:JA,0),\"\")","v":""},{"$f":"IFERROR(MATCH(\"S\",Board!JB:JB,0),\"\")","v":""},{"$f":"IFERROR(MATCH(\"S\",Board!JC:JC,0),\"\")","v":""},{"$f":"IFERROR(MATCH(\"S\",Board!JD:JD,0),\"\")","v":""},{"$f":"IFERROR(MATCH(\"S\",Board!JE:JE,0),\"\")","v":""},{"$f":"IFERROR(MATCH(\"S\",Board!JF:JF,0),\"\")","v":""},{"$f":"IFERROR(MATCH(\"S\",Board!JG:JG,0),\"\")","v":""},{"$f":"IFERROR(MATCH(\"S\",Board!JH:JH,0),\"\")","v":""},{"$f":"IFERROR(MATCH(\"S\",Board!JI:JI,0),\"\")","v":""},{"$f":"IFERROR(MATCH(\"S\",Board!JJ:JJ,0),\"\")","v":""},{"$f":"IFERROR(MATCH(\"S\",Board!JK:JK,0),\"\")","v":""},{"$f":"IFERROR(MATCH(\"S\",Board!JL:JL,0),\"\")","v":""},{"$f":"IFERROR(MATCH(\"S\",Board!JM:JM,0),\"\")","v":""},{"$f":"IFERROR(MATCH(\"S\",Board!JN:JN,0),\"\")","v":""},{"$f":"IFERROR(MATCH(\"S\",Board!JO:JO,0),\"\")","v":""},{"$f":"IFERROR(MATCH(\"S\",Board!JP:JP,0),\"\")","v":""},{"$f":"IFERROR(MATCH(\"S\",Board!JQ:JQ,0),\"\")","v":""},{"$f":"IFERROR(MATCH(\"S\",Board!JR:JR,0),\"\")","v":""},{"$f":"IFERROR(MATCH(\"S\",Board!JS:JS,0),\"\")","v":""},{"$f":"IFERROR(MATCH(\"S\",Board!JT:JT,0),\"\")","v":""},{"$f":"IFERROR(MATCH(\"S\",Board!JU:JU,0),\"\")","v":""},{"$f":"IFERROR(MATCH(\"S\",Board!JV:JV,0),\"\")","v":""},{"$f":"IFERROR(MATCH(\"S\",Board!JW:JW,0),\"\")","v":""},{"$f":"IFERROR(MATCH(\"S\",Board!JX:JX,0),\"\")","v":""},{"$f":"IFERROR(MATCH(\"S\",Board!JY:JY,0),\"\")","v":""},{"$f":"IFERROR(MATCH(\"S\",Board!JZ:JZ,0),\"\")","v":""},{"$f":"IFERROR(MATCH(\"S\",Board!KA:KA,0),\"\")","v":""},{"$f":"IFERROR(MATCH(\"S\",Board!KB:KB,0),\"\")","v":""},{"$f":"IFERROR(MATCH(\"S\",Board!KC:KC,0),\"\")","v":""},{"$f":"IFERROR(MATCH(\"S\",Board!KD:KD,0),\"\")","v":""},{"$f":"IFERROR(MATCH(\"S\",Board!KE:KE,0),\"\")","v":""},{"$f":"IFERROR(MATCH(\"S\",Board!KF:KF,0),\"\")","v":""},{"$f":"IFERROR(MATCH(\"S\",Board!KG:KG,0),\"\")","v":""},{"$f":"IFERROR(MATCH(\"S\",Board!KH:KH,0),\"\")","v":""},{"$f":"IFERROR(MATCH(\"S\",Board!KI:KI,0),\"\")","v":""},{"$f":"IFERROR(MATCH(\"S\",Board!KJ:KJ,0),\"\")","v":""},{"$f":"IFERROR(MATCH(\"S\",Board!KK:KK,0),\"\")","v":""},{"$f":"IFERROR(MATCH(\"S\",Board!KL:KL,0),\"\")","v":""},{"$f":"IFERROR(MATCH(\"S\",Board!KM:KM,0),\"\")","v":""},{"$f":"IFERROR(MATCH(\"S\",Board!KN:KN,0),\"\")","v":""},{"$f":"IFERROR(MATCH(\"S\",Board!KO:KO,0),\"\")","v":""},{"$f":"IFERROR(MATCH(\"S\",Board!KP:KP,0),\"\")","v":""},{"$f":"IFERROR(MATCH(\"S\",Board!KQ:KQ,0),\"\")","v":""},{"$f":"IFERROR(MATCH(\"S\",Board!KR:KR,0),\"\")","v":""},{"$f":"IFERROR(MATCH(\"S\",Board!KS:KS,0),\"\")","v":""},{"$f":"IFERROR(MATCH(\"S\",Board!KT:KT,0),\"\")","v":""},{"$f":"IFERROR(MATCH(\"S\",Board!KU:KU,0),\"\")","v":""},{"$f":"IFERROR(MATCH(\"S\",Board!KV:KV,0),\"\")","v":""},{"$f":"IFERROR(MATCH(\"S\",Board!KW:KW,0),\"\")","v":""},{"$f":"IFERROR(MATCH(\"S\",Board!KX:KX,0),\"\")","v":""},{"$f":"IFERROR(MATCH(\"S\",Board!KY:KY,0),\"\")","v":""},{"$f":"IFERROR(MATCH(\"S\",Board!KZ:KZ,0),\"\")","v":""},{"$f":"IFERROR(MATCH(\"S\",Board!LA:LA,0),\"\")","v":""},{"$f":"IFERROR(MATCH(\"S\",Board!LB:LB,0),\"\")","v":""},{"$f":"IFERROR(MATCH(\"S\",Board!LC:LC,0),\"\")","v":""},{"$f":"IFERROR(MATCH(\"S\",Board!LD:LD,0),\"\")","v":""},{"$f":"IFERROR(MATCH(\"S\",Board!LE:LE,0),\"\")","v":""},{"$f":"IFERROR(MATCH(\"S\",Board!LF:LF,0),\"\")","v":""},{"$f":"IFERROR(MATCH(\"S\",Board!LG:LG,0),\"\")","v":""},{"$f":"IFERROR(MATCH(\"S\",Board!LH:LH,0),\"\")","v":""},{"$f":"IFERROR(MATCH(\"S\",Board!LI:LI,0),\"\")","v":""},{"$f":"IFERROR(MATCH(\"S\",Board!LJ:LJ,0),\"\")","v":""},{"$f":"IFERROR(MATCH(\"S\",Board!LK:LK,0),\"\")","v":""},{"$f":"IFERROR(MATCH(\"S\",Board!LL:LL,0),\"\")","v":""},{"$f":"IFERROR(MATCH(\"S\",Board!LM:LM,0),\"\")","v":""},{"$f":"IFERROR(MATCH(\"S\",Board!LN:LN,0),\"\")","v":""},{"$f":"IFERROR(MATCH(\"S\",Board!LO:LO,0),\"\")","v":""},{"$f":"IFERROR(MATCH(\"S\",Board!LP:LP,0),\"\")","v":""},{"$f":"IFERROR(MATCH(\"S\",Board!LQ:LQ,0),\"\")","v":""},{"$f":"IFERROR(MATCH(\"S\",Board!LR:LR,0),\"\")","v":""},{"$f":"IFERROR(MATCH(\"S\",Board!LS:LS,0),\"\")","v":""},{"$f":"IFERROR(MATCH(\"S\",Board!LT:LT,0),\"\")","v":""},{"$f":"IFERROR(MATCH(\"S\",Board!LU:LU,0),\"\")","v":""},{"$f":"IFERROR(MATCH(\"S\",Board!LV:LV,0),\"\")","v":""},{"$f":"IFERROR(MATCH(\"S\",Board!LW:LW,0),\"\")","v":""},{"$f":"IFERROR(MATCH(\"S\",Board!LX:LX,0),\"\")","v":""},{"$f":"IFERROR(MATCH(\"S\",Board!LY:LY,0),\"\")","v":""},{"$f":"IFERROR(MATCH(\"S\",Board!LZ:LZ,0),\"\")","v":""},{"$f":"IFERROR(MATCH(\"S\",Board!MA:MA,0),\"\")","v":""},{"$f":"IFERROR(MATCH(\"S\",Board!MB:MB,0),\"\")","v":""},{"$f":"IFERROR(MATCH(\"S\",Board!MC:MC,0),\"\")","v":""},{"$f":"IFERROR(MATCH(\"S\",Board!MD:MD,0),\"\")","v":""},{"$f":"IFERROR(MATCH(\"S\",Board!ME:ME,0),\"\")","v":""},{"$f":"IFERROR(MATCH(\"S\",Board!MF:MF,0),\"\")","v":""},{"$f":"IFERROR(MATCH(\"S\",Board!MG:MG,0),\"\")","v":""},{"$f":"IFERROR(MATCH(\"S\",Board!MH:MH,0),\"\")","v":""},{"$f":"IFERROR(MATCH(\"S\",Board!MI:MI,0),\"\")","v":""},{"$f":"IFERROR(MATCH(\"S\",Board!MJ:MJ,0),\"\")","v":""},{"$f":"IFERROR(MATCH(\"S\",Board!MK:MK,0),\"\")","v":""},{"$f":"IFERROR(MATCH(\"S\",Board!ML:ML,0),\"\")","v":""},{"$f":"IFERROR(MATCH(\"S\",Board!MM:MM,0),\"\")","v":""},{"$f":"IFERROR(MATCH(\"S\",Board!MN:MN,0),\"\")","v":""},{"$f":"IFERROR(MATCH(\"S\",Board!MO:MO,0),\"\")","v":""},{"$f":"IFERROR(MATCH(\"S\",Board!MP:MP,0),\"\")","v":""},{"$f":"IFERROR(MATCH(\"S\",Board!MQ:MQ,0),\"\")","v":""},{"$f":"IFERROR(MATCH(\"S\",Board!MR:MR,0),\"\")","v":""},{"$f":"IFERROR(MATCH(\"S\",Board!MS:MS,0),\"\")","v":""},{"$f":"IFERROR(MATCH(\"S\",Board!MT:MT,0),\"\")","v":""},{"$f":"IFERROR(MATCH(\"S\",Board!MU:MU,0),\"\")","v":""},{"$f":"IFERROR(MATCH(\"S\",Board!MV:MV,0),\"\")","v":""},{"$f":"IFERROR(MATCH(\"S\",Board!MW:MW,0),\"\")","v":""},{"$f":"IFERROR(MATCH(\"S\",Board!MX:MX,0),\"\")","v":""},{"$f":"IFERROR(MATCH(\"S\",Board!MY:MY,0),\"\")","v":""},{"$f":"IFERROR(MATCH(\"S\",Board!MZ:MZ,0),\"\")","v":""},{"$f":"IFERROR(MATCH(\"S\",Board!NA:NA,0),\"\")","v":""},{"$f":"IFERROR(MATCH(\"S\",Board!NB:NB,0),\"\")","v":""},{"$f":"IFERROR(MATCH(\"S\",Board!NC:NC,0),\"\")","v":""},{"$f":"IFERROR(MATCH(\"S\",Board!ND:ND,0),\"\")","v":""},{"$f":"IFERROR(MATCH(\"S\",Board!NE:NE,0),\"\")","v":""},{"$f":"IFERROR(MATCH(\"S\",Board!NF:NF,0),\"\")","v":""},{"$f":"IFERROR(MATCH(\"S\",Board!NG:NG,0),\"\")","v":""},{"$f":"IFERROR(MATCH(\"S\",Board!NH:NH,0),\"\")","v":""},{"$f":"IFERROR(MATCH(\"S\",Board!NI:NI,0),\"\")","v":""},{"$f":"IFERROR(MATCH(\"S\",Board!NJ:NJ,0),\"\")","v":""},{"$f":"IFERROR(MATCH(\"S\",Board!NK:NK,0),\"\")","v":""},{"$f":"IFERROR(MATCH(\"S\",Board!NL:NL,0),\"\")","v":""},{"$f":"IFERROR(MATCH(\"S\",Board!NM:NM,0),\"\")","v":""},{"$f":"IFERROR(MATCH(\"S\",Board!NN:NN,0),\"\")","v":""},{"$f":"IFERROR(MATCH(\"S\",Board!NO:NO,0),\"\")","v":""},{"$f":"IFERROR(MATCH(\"S\",Board!NP:NP,0),\"\")","v":""},{"$f":"IFERROR(MATCH(\"S\",Board!NQ:NQ,0),\"\")","v":""},{"$f":"IFERROR(MATCH(\"S\",Board!NR:NR,0),\"\")","v":""},{"$f":"IFERROR(MATCH(\"S\",Board!NS:NS,0),\"\")","v":""},{"$f":"IFERROR(MATCH(\"S\",Board!NT:NT,0),\"\")","v":""},{"$f":"IFERROR(MATCH(\"S\",Board!NU:NU,0),\"\")","v":""},{"$f":"IFERROR(MATCH(\"S\",Board!NV:NV,0),\"\")","v":""},{"$f":"IFERROR(MATCH(\"S\",Board!NW:NW,0),\"\")","v":""},{"$f":"IFERROR(MATCH(\"S\",Board!NX:NX,0),\"\")","v":""},{"$f":"IFERROR(MATCH(\"S\",Board!NY:NY,0),\"\")","v":""},{"$f":"IFERROR(MATCH(\"S\",Board!NZ:NZ,0),\"\")","v":""},{"$f":"IFERROR(MATCH(\"S\",Board!OA:OA,0),\"\")","v":""},{"$f":"IFERROR(MATCH(\"S\",Board!OB:OB,0),\"\")","v":""},{"$f":"IFERROR(MATCH(\"S\",Board!OC:OC,0),\"\")","v":""},{"$f":"IFERROR(MATCH(\"S\",Board!OD:OD,0),\"\")","v":""},{"$f":"IFERROR(MATCH(\"S\",Board!OE:OE,0),\"\")","v":""},{"$f":"IFERROR(MATCH(\"S\",Board!OF:OF,0),\"\")","v":""},{"$f":"IFERROR(MATCH(\"S\",Board!OG:OG,0),\"\")","v":""},{"$f":"IFERROR(MATCH(\"S\",Board!OH:OH,0),\"\")","v":""},{"$f":"IFERROR(MATCH(\"S\",Board!OI:OI,0),\"\")","v":""},{"$f":"IFERROR(MATCH(\"S\",Board!OJ:OJ,0),\"\")","v":""},{"$f":"IFERROR(MATCH(\"S\",Board!OK:OK,0),\"\")","v":""},{"$f":"IFERROR(MATCH(\"S\",Board!OL:OL,0),\"\")","v":""},{"$f":"IFERROR(MATCH(\"S\",Board!OM:OM,0),\"\")","v":""},{"$f":"IFERROR(MATCH(\"S\",Board!ON:ON,0),\"\")","v":""},{"$f":"IFERROR(MATCH(\"S\",Board!OO:OO,0),\"\")","v":""},{"$f":"IFERROR(MATCH(\"S\",Board!OP:OP,0),\"\")","v":""},{"$f":"IFERROR(MATCH(\"S\",Board!OQ:OQ,0),\"\")","v":""},{"$f":"IFERROR(MATCH(\"S\",Board!OR:OR,0),\"\")","v":""},{"$f":"IFERROR(MATCH(\"S\",Board!OS:OS,0),\"\")","v":""},{"$f":"IFERROR(MATCH(\"S\",Board!OT:OT,0),\"\")","v":""},{"$f":"IFERROR(MATCH(\"S\",Board!OU:OU,0),\"\")","v":""},{"$f":"IFERROR(MATCH(\"S\",Board!OV:OV,0),\"\")","v":""},{"$f":"IFERROR(MATCH(\"S\",Board!OW:OW,0),\"\")","v":""},{"$f":"IFERROR(MATCH(\"S\",Board!OX:OX,0),\"\")","v":""},{"$f":"IFERROR(MATCH(\"S\",Board!OY:OY,0),\"\")","v":""},{"$f":"IFERROR(MATCH(\"S\",Board!OZ:OZ,0),\"\")","v":""},{"$f":"IFERROR(MATCH(\"S\",Board!PA:PA,0),\"\")","v":""},{"$f":"IFERROR(MATCH(\"S\",Board!PB:PB,0),\"\")","v":""},{"$f":"IFERROR(MATCH(\"S\",Board!PC:PC,0),\"\")","v":""},{"$f":"IFERROR(MATCH(\"S\",Board!PD:PD,0),\"\")","v":""},{"$f":"IFERROR(MATCH(\"S\",Board!PE:PE,0),\"\")","v":""},{"$f":"IFERROR(MATCH(\"S\",Board!PF:PF,0),\"\")","v":""},{"$f":"IFERROR(MATCH(\"S\",Board!PG:PG,0),\"\")","v":""},{"$f":"IFERROR(MATCH(\"S\",Board!PH:PH,0),\"\")","v":""},{"$f":"IFERROR(MATCH(\"S\",Board!PI:PI,0),\"\")","v":""},{"$f":"IFERROR(MATCH(\"S\",Board!PJ:PJ,0),\"\")","v":""},{"$f":"IFERROR(MATCH(\"S\",Board!PK:PK,0),\"\")","v":""},{"$f":"IFERROR(MATCH(\"S\",Board!PL:PL,0),\"\")","v":""},{"$f":"IFERROR(MATCH(\"S\",Board!PM:PM,0),\"\")","v":""},{"$f":"IFERROR(MATCH(\"S\",Board!PN:PN,0),\"\")","v":""},{"$f":"IFERROR(MATCH(\"S\",Board!PO:PO,0),\"\")","v":""},{"$f":"IFERROR(MATCH(\"S\",Board!PP:PP,0),\"\")","v":""},{"$f":"IFERROR(MATCH(\"S\",Board!PQ:PQ,0),\"\")","v":""},{"$f":"IFERROR(MATCH(\"S\",Board!PR:PR,0),\"\")","v":""},{"$f":"IFERROR(MATCH(\"S\",Board!PS:PS,0),\"\")","v":""},{"$f":"IFERROR(MATCH(\"S\",Board!PT:PT,0),\"\")","v":""},{"$f":"IFERROR(MATCH(\"S\",Board!PU:PU,0),\"\")","v":""},{"$f":"IFERROR(MATCH(\"S\",Board!PV:PV,0),\"\")","v":""},{"$f":"IFERROR(MATCH(\"S\",Board!PW:PW,0),\"\")","v":""},{"$f":"IFERROR(MATCH(\"S\",Board!PX:PX,0),\"\")","v":""},{"$f":"IFERROR(MATCH(\"S\",Board!PY:PY,0),\"\")","v":""},{"$f":"IFERROR(MATCH(\"S\",Board!PZ:PZ,0),\"\")","v":""},{"$f":"IFERROR(MATCH(\"S\",Board!QA:QA,0),\"\")","v":""},{"$f":"IFERROR(MATCH(\"S\",Board!QB:QB,0),\"\")","v":""},{"$f":"IFERROR(MATCH(\"S\",Board!QC:QC,0),\"\")","v":""},{"$f":"IFERROR(MATCH(\"S\",Board!QD:QD,0),\"\")","v":""},{"$f":"IFERROR(MATCH(\"S\",Board!QE:QE,0),\"\")","v":""},{"$f":"IFERROR(MATCH(\"S\",Board!QF:QF,0),\"\")","v":""},{"$f":"IFERROR(MATCH(\"S\",Board!QG:QG,0),\"\")","v":""},{"$f":"IFERROR(MATCH(\"S\",Board!QH:QH,0),\"\")","v":""},{"$f":"IFERROR(MATCH(\"S\",Board!QI:QI,0),\"\")","v":""},{"$f":"IFERROR(MATCH(\"S\",Board!QJ:QJ,0),\"\")","v":""},{"$f":"IFERROR(MATCH(\"S\",Board!QK:QK,0),\"\")","v":""},{"$f":"IFERROR(MATCH(\"S\",Board!QL:QL,0),\"\")","v":""},{"$f":"IFERROR(MATCH(\"S\",Board!QM:QM,0),\"\")","v":""},{"$f":"IFERROR(MATCH(\"S\",Board!QN:QN,0),\"\")","v":""},{"$f":"IFERROR(MATCH(\"S\",Board!QO:QO,0),\"\")","v":""},{"$f":"IFERROR(MATCH(\"S\",Board!QP:QP,0),\"\")","v":""},{"$f":"IFERROR(MATCH(\"S\",Board!QQ:QQ,0),\"\")","v":""},{"$f":"IFERROR(MATCH(\"S\",Board!QR:QR,0),\"\")","v":""},{"$f":"IFERROR(MATCH(\"S\",Board!QS:QS,0),\"\")","v":""},{"$f":"IFERROR(MATCH(\"S\",Board!QT:QT,0),\"\")","v":""},{"$f":"IFERROR(MATCH(\"S\",Board!QU:QU,0),\"\")","v":""},{"$f":"IFERROR(MATCH(\"S\",Board!QV:QV,0),\"\")","v":""},{"$f":"IFERROR(MATCH(\"S\",Board!QW:QW,0),\"\")","v":""},{"$f":"IFERROR(MATCH(\"S\",Board!QX:QX,0),\"\")","v":""},{"$f":"IFERROR(MATCH(\"S\",Board!QY:QY,0),\"\")","v":""},{"$f":"IFERROR(MATCH(\"S\",Board!QZ:QZ,0),\"\")","v":""},{"$f":"IFERROR(MATCH(\"S\",Board!RA:RA,0),\"\")","v":""},{"$f":"IFERROR(MATCH(\"S\",Board!RB:RB,0),\"\")","v":""},{"$f":"IFERROR(MATCH(\"S\",Board!RC:RC,0),\"\")","v":""},{"$f":"IFERROR(MATCH(\"S\",Board!RD:RD,0),\"\")","v":""},{"$f":"IFERROR(MATCH(\"S\",Board!RE:RE,0),\"\")","v":""},{"$f":"IFERROR(MATCH(\"S\",Board!RF:RF,0),\"\")","v":""},{"$f":"IFERROR(MATCH(\"S\",Board!RG:RG,0),\"\")","v":""},{"$f":"IFERROR(MATCH(\"S\",Board!RH:RH,0),\"\")","v":""},{"$f":"IFERROR(MATCH(\"S\",Board!RI:RI,0),\"\")","v":""},{"$f":"IFERROR(MATCH(\"S\",Board!RJ:RJ,0),\"\")","v":""},{"$f":"IFERROR(MATCH(\"S\",Board!RK:RK,0),\"\")","v":""},{"$f":"IFERROR(MATCH(\"S\",Board!RL:RL,0),\"\")","v":""},{"$f":"IFERROR(MATCH(\"S\",Board!RM:RM,0),\"\")","v":""},{"$f":"IFERROR(MATCH(\"S\",Board!RN:RN,0),\"\")","v":""},{"$f":"IFERROR(MATCH(\"S\",Board!RO:RO,0),\"\")","v":""},{"$f":"IFERROR(MATCH(\"S\",Board!RP:RP,0),\"\")","v":""},{"$f":"IFERROR(MATCH(\"S\",Board!RQ:RQ,0),\"\")","v":""},{"$f":"IFERROR(MATCH(\"S\",Board!RR:RR,0),\"\")","v":""},{"$f":"IFERROR(MATCH(\"S\",Board!RS:RS,0),\"\")","v":""},{"$f":"IFERROR(MATCH(\"S\",Board!RT:RT,0),\"\")","v":""},{"$f":"IFERROR(MATCH(\"S\",Board!RU:RU,0),\"\")","v":""},{"$f":"IFERROR(MATCH(\"S\",Board!RV:RV,0),\"\")","v":""},{"$f":"IFERROR(MATCH(\"S\",Board!RW:RW,0),\"\")","v":""},{"$f":"IFERROR(MATCH(\"S\",Board!RX:RX,0),\"\")","v":""},{"$f":"IFERROR(MATCH(\"S\",Board!RY:RY,0),\"\")","v":""},{"$f":"IFERROR(MATCH(\"S\",Board!RZ:RZ,0),\"\")","v":""},{"$f":"IFERROR(MATCH(\"S\",Board!SA:SA,0),\"\")","v":""},{"$f":"IFERROR(MATCH(\"S\",Board!SB:SB,0),\"\")","v":""},{"$f":"IFERROR(MATCH(\"S\",Board!SC:SC,0),\"\")","v":""},{"$f":"IFERROR(MATCH(\"S\",Board!SD:SD,0),\"\")","v":""},{"$f":"IFERROR(MATCH(\"S\",Board!SE:SE,0),\"\")","v":""},{"$f":"IFERROR(MATCH(\"S\",Board!SF:SF,0),\"\")","v":""},{"$f":"IFERROR(MATCH(\"S\",Board!SG:SG,0),\"\")","v":""},{"$f":"IFERROR(MATCH(\"S\",Board!SH:SH,0),\"\")","v":""},{"$f":"IFERROR(MATCH(\"S\",Board!SI:SI,0),\"\")","v":""},{"$f":"IFERROR(MATCH(\"S\",Board!SJ:SJ,0),\"\")","v":""},{"$f":"IFERROR(MATCH(\"S\",Board!SK:SK,0),\"\")","v":""},{"$f":"IFERROR(MATCH(\"S\",Board!SL:SL,0),\"\")","v":""},{"$f":"IFERROR(MATCH(\"S\",Board!SM:SM,0),\"\")","v":""},{"$f":"IFERROR(MATCH(\"S\",Board!SN:SN,0),\"\")","v":""},{"$f":"IFERROR(MATCH(\"S\",Board!SO:SO,0),\"\")","v":""},{"$f":"IFERROR(MATCH(\"S\",Board!SP:SP,0),\"\")","v":""},{"$f":"IFERROR(MATCH(\"S\",Board!SQ:SQ,0),\"\")","v":""},{"$f":"IFERROR(MATCH(\"S\",Board!SR:SR,0),\"\")","v":""},{"$f":"IFERROR(MATCH(\"S\",Board!SS:SS,0),\"\")","v":""},{"$f":"IFERROR(MATCH(\"S\",Board!ST:ST,0),\"\")","v":""},{"$f":"IFERROR(MATCH(\"S\",Board!SU:SU,0),\"\")","v":""},{"$f":"IFERROR(MATCH(\"S\",Board!SV:SV,0),\"\")","v":""},{"$f":"IFERROR(MATCH(\"S\",Board!SW:SW,0),\"\")","v":""},{"$f":"IFERROR(MATCH(\"S\",Board!SX:SX,0),\"\")","v":""},{"$f":"IFERROR(MATCH(\"S\",Board!SY:SY,0),\"\")","v":""},{"$f":"IFERROR(MATCH(\"S\",Board!SZ:SZ,0),\"\")","v":""},{"$f":"IFERROR(MATCH(\"S\",Board!TA:TA,0),\"\")","v":""},{"$f":"IFERROR(MATCH(\"S\",Board!TB:TB,0),\"\")","v":""},{"$f":"IFERROR(MATCH(\"S\",Board!TC:TC,0),\"\")","v":""},{"$f":"IFERROR(MATCH(\"S\",Board!TD:TD,0),\"\")","v":""},{"$f":"IFERROR(MATCH(\"S\",Board!TE:TE,0),\"\")","v":""},{"$f":"IFERROR(MATCH(\"S\",Board!TF:TF,0),\"\")","v":""},{"$f":"IFERROR(MATCH(\"S\",Board!TG:TG,0),\"\")","v":""},{"$f":"IFERROR(MATCH(\"S\",Board!TH:TH,0),\"\")","v":""},{"$f":"IFERROR(MATCH(\"S\",Board!TI:TI,0),\"\")","v":""},{"$f":"IFERROR(MATCH(\"S\",Board!TJ:TJ,0),\"\")","v":""},{"$f":"IFERROR(MATCH(\"S\",Board!TK:TK,0),\"\")","v":""},{"$f":"IFERROR(MATCH(\"S\",Board!TL:TL,0),\"\")","v":""},{"$f":"IFERROR(MATCH(\"S\",Board!TM:TM,0),\"\")","v":""},{"$f":"IFERROR(MATCH(\"S\",Board!TN:TN,0),\"\")","v":""},{"$f":"IFERROR(MATCH(\"S\",Board!TO:TO,0),\"\")","v":""},{"$f":"IFERROR(MATCH(\"S\",Board!TP:TP,0),\"\")","v":""},{"$f":"IFERROR(MATCH(\"S\",Board!TQ:TQ,0),\"\")","v":""},{"$f":"IFERROR(MATCH(\"S\",Board!TR:TR,0),\"\")","v":""},{"$f":"IFERROR(MATCH(\"S\",Board!TS:TS,0),\"\")","v":""},{"$f":"IFERROR(MATCH(\"S\",Board!TT:TT,0),\"\")","v":""},{"$f":"IFERROR(MATCH(\"S\",Board!TU:TU,0),\"\")","v":""},{"$f":"IFERROR(MATCH(\"S\",Board!TV:TV,0),\"\")","v":""},{"$f":"IFERROR(MATCH(\"S\",Board!TW:TW,0),\"\")","v":""},{"$f":"IFERROR(MATCH(\"S\",Board!TX:TX,0),\"\")","v":""},{"$f":"IFERROR(MATCH(\"S\",Board!TY:TY,0),\"\")","v":""},{"$f":"IFERROR(MATCH(\"S\",Board!TZ:TZ,0),\"\")","v":""},{"$f":"IFERROR(MATCH(\"S\",Board!UA:UA,0),\"\")","v":""},{"$f":"IFERROR(MATCH(\"S\",Board!UB:UB,0),\"\")","v":""},{"$f":"IFERROR(MATCH(\"S\",Board!UC:UC,0),\"\")","v":""},{"$f":"IFERROR(MATCH(\"S\",Board!UD:UD,0),\"\")","v":""},{"$f":"IFERROR(MATCH(\"S\",Board!UE:UE,0),\"\")","v":""},{"$f":"IFERROR(MATCH(\"S\",Board!UF:UF,0),\"\")","v":""},{"$f":"IFERROR(MATCH(\"S\",Board!UG:UG,0),\"\")","v":""},{"$f":"IFERROR(MATCH(\"S\",Board!UH:UH,0),\"\")","v":""},{"$f":"IFERROR(MATCH(\"S\",Board!UI:UI,0),\"\")","v":""},{"$f":"IFERROR(MATCH(\"S\",Board!UJ:UJ,0),\"\")","v":""},{"$f":"IFERROR(MATCH(\"S\",Board!UK:UK,0),\"\")","v":""},{"$f":"IFERROR(MATCH(\"S\",Board!UL:UL,0),\"\")","v":""},{"$f":"IFERROR(MATCH(\"S\",Board!UM:UM,0),\"\")","v":""},{"$f":"IFERROR(MATCH(\"S\",Board!UN:UN,0),\"\")","v":""},{"$f":"IFERROR(MATCH(\"S\",Board!UO:UO,0),\"\")","v":""},{"$f":"IFERROR(MATCH(\"S\",Board!UP:UP,0),\"\")","v":""},{"$f":"IFERROR(MATCH(\"S\",Board!UQ:UQ,0),\"\")","v":""},{"$f":"IFERROR(MATCH(\"S\",Board!UR:UR,0),\"\")","v":""},{"$f":"IFERROR(MATCH(\"S\",Board!US:US,0),\"\")","v":""},{"$f":"IFERROR(MATCH(\"S\",Board!UT:UT,0),\"\")","v":""},{"$f":"IFERROR(MATCH(\"S\",Board!UU:UU,0),\"\")","v":""},{"$f":"IFERROR(MATCH(\"S\",Board!UV:UV,0),\"\")","v":""},{"$f":"IFERROR(MATCH(\"S\",Board!UW:UW,0),\"\")","v":""},{"$f":"IFERROR(MATCH(\"S\",Board!UX:UX,0),\"\")","v":""},{"$f":"IFERROR(MATCH(\"S\",Board!UY:UY,0),\"\")","v":""},{"$f":"IFERROR(MATCH(\"S\",Board!UZ:UZ,0),\"\")","v":""},{"$f":"IFERROR(MATCH(\"S\",Board!VA:VA,0),\"\")","v":""},{"$f":"IFERROR(MATCH(\"S\",Board!VB:VB,0),\"\")","v":""},{"$f":"IFERROR(MATCH(\"S\",Board!VC:VC,0),\"\")","v":""},{"$f":"IFERROR(MATCH(\"S\",Board!VD:VD,0),\"\")","v":""},{"$f":"IFERROR(MATCH(\"S\",Board!VE:VE,0),\"\")","v":""},{"$f":"IFERROR(MATCH(\"S\",Board!VF:VF,0),\"\")","v":""},{"$f":"IFERROR(MATCH(\"S\",Board!VG:VG,0),\"\")","v":""},{"$f":"IFERROR(MATCH(\"S\",Board!VH:VH,0),\"\")","v":""},{"$f":"IFERROR(MATCH(\"S\",Board!VI:VI,0),\"\")","v":""},{"$f":"IFERROR(MATCH(\"S\",Board!VJ:VJ,0),\"\")","v":""},{"$f":"IFERROR(MATCH(\"S\",Board!VK:VK,0),\"\")","v":""},{"$f":"IFERROR(MATCH(\"S\",Board!VL:VL,0),\"\")","v":""},{"$f":"IFERROR(MATCH(\"S\",Board!VM:VM,0),\"\")","v":""},{"$f":"IFERROR(MATCH(\"S\",Board!VN:VN,0),\"\")","v":""},{"$f":"IFERROR(MATCH(\"S\",Board!VO:VO,0),\"\")","v":""},{"$f":"IFERROR(MATCH(\"S\",Board!VP:VP,0),\"\")","v":""},{"$f":"IFERROR(MATCH(\"S\",Board!VQ:VQ,0),\"\")","v":""},{"$f":"IFERROR(MATCH(\"S\",Board!VR:VR,0),\"\")","v":""},{"$f":"IFERROR(MATCH(\"S\",Board!VS:VS,0),\"\")","v":""},{"$f":"IFERROR(MATCH(\"S\",Board!VT:VT,0),\"\")","v":""},{"$f":"IFERROR(MATCH(\"S\",Board!VU:VU,0),\"\")","v":""},{"$f":"IFERROR(MATCH(\"S\",Board!VV:VV,0),\"\")","v":""},{"$f":"IFERROR(MATCH(\"S\",Board!VW:VW,0),\"\")","v":""},{"$f":"IFERROR(MATCH(\"S\",Board!VX:VX,0),\"\")","v":""},{"$f":"IFERROR(MATCH(\"S\",Board!VY:VY,0),\"\")","v":""},{"$f":"IFERROR(MATCH(\"S\",Board!VZ:VZ,0),\"\")","v":""},{"$f":"IFERROR(MATCH(\"S\",Board!WA:WA,0),\"\")","v":""},{"$f":"IFERROR(MATCH(\"S\",Board!WB:WB,0),\"\")","v":""},{"$f":"IFERROR(MATCH(\"S\",Board!WC:WC,0),\"\")","v":""},{"$f":"IFERROR(MATCH(\"S\",Board!WD:WD,0),\"\")","v":""},{"$f":"IFERROR(MATCH(\"S\",Board!WE:WE,0),\"\")","v":""},{"$f":"IFERROR(MATCH(\"S\",Board!WF:WF,0),\"\")","v":""},{"$f":"IFERROR(MATCH(\"S\",Board!WG:WG,0),\"\")","v":""},{"$f":"IFERROR(MATCH(\"S\",Board!WH:WH,0),\"\")","v":""},{"$f":"IFERROR(MATCH(\"S\",Board!WI:WI,0),\"\")","v":""},{"$f":"IFERROR(MATCH(\"S\",Board!WJ:WJ,0),\"\")","v":""},{"$f":"IFERROR(MATCH(\"S\",Board!WK:WK,0),\"\")","v":""},{"$f":"IFERROR(MATCH(\"S\",Board!WL:WL,0),\"\")","v":""},{"$f":"IFERROR(MATCH(\"S\",Board!WM:WM,0),\"\")","v":""},{"$f":"IFERROR(MATCH(\"S\",Board!WN:WN,0),\"\")","v":""},{"$f":"IFERROR(MATCH(\"S\",Board!WO:WO,0),\"\")","v":""},{"$f":"IFERROR(MATCH(\"S\",Board!WP:WP,0),\"\")","v":""},{"$f":"IFERROR(MATCH(\"S\",Board!WQ:WQ,0),\"\")","v":""},{"$f":"IFERROR(MATCH(\"S\",Board!WR:WR,0),\"\")","v":""},{"$f":"IFERROR(MATCH(\"S\",Board!WS:WS,0),\"\")","v":""},{"$f":"IFERROR(MATCH(\"S\",Board!WT:WT,0),\"\")","v":""},{"$f":"IFERROR(MATCH(\"S\",Board!WU:WU,0),\"\")","v":""},{"$f":"IFERROR(MATCH(\"S\",Board!WV:WV,0),\"\")","v":""},{"$f":"IFERROR(MATCH(\"S\",Board!WW:WW,0),\"\")","v":""},{"$f":"IFERROR(MATCH(\"S\",Board!WX:WX,0),\"\")","v":""},{"$f":"IFERROR(MATCH(\"S\",Board!WY:WY,0),\"\")","v":""},{"$f":"IFERROR(MATCH(\"S\",Board!WZ:WZ,0),\"\")","v":""},{"$f":"IFERROR(MATCH(\"S\",Board!XA:XA,0),\"\")","v":""},{"$f":"IFERROR(MATCH(\"S\",Board!XB:XB,0),\"\")","v":""},{"$f":"IFERROR(MATCH(\"S\",Board!XC:XC,0),\"\")","v":""},{"$f":"IFERROR(MATCH(\"S\",Board!XD:XD,0),\"\")","v":""},{"$f":"IFERROR(MATCH(\"S\",Board!XE:XE,0),\"\")","v":""},{"$f":"IFERROR(MATCH(\"S\",Board!XF:XF,0),\"\")","v":""},{"$f":"IFERROR(MATCH(\"S\",Board!XG:XG,0),\"\")","v":""},{"$f":"IFERROR(MATCH(\"S\",Board!XH:XH,0),\"\")","v":""},{"$f":"IFERROR(MATCH(\"S\",Board!XI:XI,0),\"\")","v":""},{"$f":"IFERROR(MATCH(\"S\",Board!XJ:XJ,0),\"\")","v":""},{"$f":"IFERROR(MATCH(\"S\",Board!XK:XK,0),\"\")","v":""},{"$f":"IFERROR(MATCH(\"S\",Board!XL:XL,0),\"\")","v":""},{"$f":"IFERROR(MATCH(\"S\",Board!XM:XM,0),\"\")","v":""},{"$f":"IFERROR(MATCH(\"S\",Board!XN:XN,0),\"\")","v":""},{"$f":"IFERROR(MATCH(\"S\",Board!XO:XO,0),\"\")","v":""},{"$f":"IFERROR(MATCH(\"S\",Board!XP:XP,0),\"\")","v":""},{"$f":"IFERROR(MATCH(\"S\",Board!XQ:XQ,0),\"\")","v":""},{"$f":"IFERROR(MATCH(\"S\",Board!XR:XR,0),\"\")","v":""},{"$f":"IFERROR(MATCH(\"S\",Board!XS:XS,0),\"\")","v":""},{"$f":"IFERROR(MATCH(\"S\",Board!XT:XT,0),\"\")","v":""},{"$f":"IFERROR(MATCH(\"S\",Board!XU:XU,0),\"\")","v":""},{"$f":"IFERROR(MATCH(\"S\",Board!XV:XV,0),\"\")","v":""},{"$f":"IFERROR(MATCH(\"S\",Board!XW:XW,0),\"\")","v":""},{"$f":"IFERROR(MATCH(\"S\",Board!XX:XX,0),\"\")","v":""},{"$f":"IFERROR(MATCH(\"S\",Board!XY:XY,0),\"\")","v":""},{"$f":"IFERROR(MATCH(\"S\",Board!XZ:XZ,0),\"\")","v":""},{"$f":"IFERROR(MATCH(\"S\",Board!YA:YA,0),\"\")","v":""},{"$f":"IFERROR(MATCH(\"S\",Board!YB:YB,0),\"\")","v":""},{"$f":"IFERROR(MATCH(\"S\",Board!YC:YC,0),\"\")","v":""},{"$f":"IFERROR(MATCH(\"S\",Board!YD:YD,0),\"\")","v":""},{"$f":"IFERROR(MATCH(\"S\",Board!YE:YE,0),\"\")","v":""},{"$f":"IFERROR(MATCH(\"S\",Board!YF:YF,0),\"\")","v":""},{"$f":"IFERROR(MATCH(\"S\",Board!YG:YG,0),\"\")","v":""},{"$f":"IFERROR(MATCH(\"S\",Board!YH:YH,0),\"\")","v":""},{"$f":"IFERROR(MATCH(\"S\",Board!YI:YI,0),\"\")","v":""},{"$f":"IFERROR(MATCH(\"S\",Board!YJ:YJ,0),\"\")","v":""},{"$f":"IFERROR(MATCH(\"S\",Board!YK:YK,0),\"\")","v":""},{"$f":"IFERROR(MATCH(\"S\",Board!YL:YL,0),\"\")","v":""},{"$f":"IFERROR(MATCH(\"S\",Board!YM:YM,0),\"\")","v":""},{"$f":"IFERROR(MATCH(\"S\",Board!YN:YN,0),\"\")","v":""},{"$f":"IFERROR(MATCH(\"S\",Board!YO:YO,0),\"\")","v":""},{"$f":"IFERROR(MATCH(\"S\",Board!YP:YP,0),\"\")","v":""},{"$f":"IFERROR(MATCH(\"S\",Board!YQ:YQ,0),\"\")","v":""},{"$f":"IFERROR(MATCH(\"S\",Board!YR:YR,0),\"\")","v":""},{"$f":"IFERROR(MATCH(\"S\",Board!YS:YS,0),\"\")","v":""},{"$f":"IFERROR(MATCH(\"S\",Board!YT:YT,0),\"\")","v":""},{"$f":"IFERROR(MATCH(\"S\",Board!YU:YU,0),\"\")","v":""},{"$f":"IFERROR(MATCH(\"S\",Board!YV:YV,0),\"\")","v":""},{"$f":"IFERROR(MATCH(\"S\",Board!YW:YW,0),\"\")","v":""},{"$f":"IFERROR(MATCH(\"S\",Board!YX:YX,0),\"\")","v":""},{"$f":"IFERROR(MATCH(\"S\",Board!YY:YY,0),\"\")","v":""},{"$f":"IFERROR(MATCH(\"S\",Board!YZ:YZ,0),\"\")","v":""},{"$f":"IFERROR(MATCH(\"S\",Board!ZA:ZA,0),\"\")","v":""},{"$f":"IFERROR(MATCH(\"S\",Board!ZB:ZB,0),\"\")","v":""},{"$f":"IFERROR(MATCH(\"S\",Board!ZC:ZC,0),\"\")","v":""},{"$f":"IFERROR(MATCH(\"S\",Board!ZD:ZD,0),\"\")","v":""},{"$f":"IFERROR(MATCH(\"S\",Board!ZE:ZE,0),\"\")","v":""},{"$f":"IFERROR(MATCH(\"S\",Board!ZF:ZF,0),\"\")","v":""},{"$f":"IFERROR(MATCH(\"S\",Board!ZG:ZG,0),\"\")","v":""},{"$f":"IFERROR(MATCH(\"S\",Board!ZH:ZH,0),\"\")","v":""},{"$f":"IFERROR(MATCH(\"S\",Board!ZI:ZI,0),\"\")","v":""},{"$f":"IFERROR(MATCH(\"S\",Board!ZJ:ZJ,0),\"\")","v":""},{"$f":"IFERROR(MATCH(\"S\",Board!ZK:ZK,0),\"\")","v":""},{"$f":"IFERROR(MATCH(\"S\",Board!ZL:ZL,0),\"\")","v":""},{"$f":"IFERROR(MATCH(\"S\",Board!ZM:ZM,0),\"\")","v":""},{"$f":"IFERROR(MATCH(\"S\",Board!ZN:ZN,0),\"\")","v":""},{"$f":"IFERROR(MATCH(\"S\",Board!ZO:ZO,0),\"\")","v":""},{"$f":"IFERROR(MATCH(\"S\",Board!ZP:ZP,0),\"\")","v":""},{"$f":"IFERROR(MATCH(\"S\",Board!ZQ:ZQ,0),\"\")","v":""},{"$f":"IFERROR(MATCH(\"S\",Board!ZR:ZR,0),\"\")","v":""},{"$f":"IFERROR(MATCH(\"S\",Board!ZS:ZS,0),\"\")","v":""},{"$f":"IFERROR(MATCH(\"S\",Board!ZT:ZT,0),\"\")","v":""},{"$f":"IFERROR(MATCH(\"S\",Board!ZU:ZU,0),\"\")","v":""},{"$f":"IFERROR(MATCH(\"S\",Board!ZV:ZV,0),\"\")","v":""},{"$f":"IFERROR(MATCH(\"S\",Board!ZW:ZW,0),\"\")","v":""},{"$f":"IFERROR(MATCH(\"S\",Board!ZX:ZX,0),\"\")","v":""},{"$f":"IFERROR(MATCH(\"S\",Board!ZY:ZY,0),\"\")","v":""},{"$f":"IFERROR(MATCH(\"S\",Board!ZZ:ZZ,0),\"\")","v":""},{"$f":"IFERROR(MATCH(\"S\",Board!AAA:AAA,0),\"\")","v":""},{"$f":"IFERROR(MATCH(\"S\",Board!AAB:AAB,0),\"\")","v":""},{"$f":"IFERROR(MATCH(\"S\",Board!AAC:AAC,0),\"\")","v":""},{"$f":"IFERROR(MATCH(\"S\",Board!AAD:AAD,0),\"\")","v":""},{"$f":"IFERROR(MATCH(\"S\",Board!AAE:AAE,0),\"\")","v":""},{"$f":"IFERROR(MATCH(\"S\",Board!AAF:AAF,0),\"\")","v":""},{"$f":"IFERROR(MATCH(\"S\",Board!AAG:AAG,0),\"\")","v":""},{"$f":"IFERROR(MATCH(\"S\",Board!AAH:AAH,0),\"\")","v":""},{"$f":"IFERROR(MATCH(\"S\",Board!AAI:AAI,0),\"\")","v":""},{"$f":"IFERROR(MATCH(\"S\",Board!AAJ:AAJ,0),\"\")","v":""},{"$f":"IFERROR(MATCH(\"S\",Board!AAK:AAK,0),\"\")","v":""},{"$f":"IFERROR(MATCH(\"S\",Board!AAL:AAL,0),\"\")","v":""},{"$f":"IFERROR(MATCH(\"S\",Board!AAM:AAM,0),\"\")","v":""},{"$f":"IFERROR(MATCH(\"S\",Board!AAN:AAN,0),\"\")","v":""},{"$f":"IFERROR(MATCH(\"S\",Board!AAO:AAO,0),\"\")","v":""},{"$f":"IFERROR(MATCH(\"S\",Board!AAP:AAP,0),\"\")","v":""},{"$f":"IFERROR(MATCH(\"S\",Board!AAQ:AAQ,0),\"\")","v":""},{"$f":"IFERROR(MATCH(\"S\",Board!AAR:AAR,0),\"\")","v":""},{"$f":"IFERROR(MATCH(\"S\",Board!AAS:AAS,0),\"\")","v":""},{"$f":"IFERROR(MATCH(\"S\",Board!AAT:AAT,0),\"\")","v":""},{"$f":"IFERROR(MATCH(\"S\",Board!AAU:AAU,0),\"\")","v":""},{"$f":"IFERROR(MATCH(\"S\",Board!AAV:AAV,0),\"\")","v":""},{"$f":"IFERROR(MATCH(\"S\",Board!AAW:AAW,0),\"\")","v":""},{"$f":"IFERROR(MATCH(\"S\",Board!AAX:AAX,0),\"\")","v":""},{"$f":"IFERROR(MATCH(\"S\",Board!AAY:AAY,0),\"\")","v":""},{"$f":"IFERROR(MATCH(\"S\",Board!AAZ:AAZ,0),\"\")","v":""}]
[{"$f":"SUM(5:5)","v":10},"Start Row"]
[{"$f":"MATCH(SUM(5:5),5:5,0)","v":1},"Start Column"]
[{"$f":"COUNTIF(Board!A:AAZ,\"F\")","v":1}]
[{"$f":"IF(SUM(8:8)>1,TRUE,FALSE)","v":false},{"$f":"IF(SUM(8:8)<1,TRUE,FALSE)","v":false}]
[{"$f":"IFERROR(MATCH(\"F\",Board!A:A,0),\"\")","v":""},{"$f":"IFERROR(MATCH(\"F\",Board!B:B,0),\"\")","v":""},{"$f":"IFERROR(MATCH(\"F\",Board!C:C,0),\"\")","v":""},{"$f":"IFERROR(MATCH(\"F\",Board!D:D,0),\"\")","v":""},{"$f":"IFERROR(MATCH(\"F\",Board!E:E,0),\"\")","v":""},{"$f":"IFERROR(MATCH(\"F\",Board!F:F,0),\"\")","v":""},{"$f":"IFERROR(MATCH(\"F\",Board!G:G,0),\"\")","v":""},{"$f":"IFERROR(MATCH(\"F\",Board!H:H,0),\"\")","v":""},{"$f":"IFERROR(MATCH(\"F\",Board!I:I,0),\"\")","v":""},{"$f":"IFERROR(MATCH(\"F\",Board!J:J,0),\"\")","v":""},{"$f":"IFERROR(MATCH(\"F\",Board!K:K,0),\"\")","v":""},{"$f":"IFERROR(MATCH(\"F\",Board!L:L,0),\"\")","v":""},{"$f":"IFERROR(MATCH(\"F\",Board!M:M,0),\"\")","v":""},{"$f":"IFERROR(MATCH(\"F\",Board!N:N,0),\"\")","v":7},{"$f":"IFERROR(MATCH(\"F\",Board!O:O,0),\"\")","v":""},{"$f":"IFERROR(MATCH(\"F\",Board!P:P,0),\"\")","v":""},{"$f":"IFERROR(MATCH(\"F\",Board!Q:Q,0),\"\")","v":""},{"$f":"IFERROR(MATCH(\"F\",Board!R:R,0),\"\")","v":""},{"$f":"IFERROR(MATCH(\"F\",Board!S:S,0),\"\")","v":""},{"$f":"IFERROR(MATCH(\"F\",Board!T:T,0),\"\")","v":""},{"$f":"IFERROR(MATCH(\"F\",Board!U:U,0),\"\")","v":""},{"$f":"IFERROR(MATCH(\"F\",Board!V:V,0),\"\")","v":""},{"$f":"IFERROR(MATCH(\"F\",Board!W:W,0),\"\")","v":""},{"$f":"IFERROR(MATCH(\"F\",Board!X:X,0),\"\")","v":""},{"$f":"IFERROR(MATCH(\"F\",Board!Y:Y,0),\"\")","v":""},{"$f":"IFERROR(MATCH(\"F\",Board!Z:Z,0),\"\")","v":""},{"$f":"IFERROR(MATCH(\"F\",Board!AA:AA,0),\"\")","v":""},{"$f":"IFERROR(MATCH(\"F\",Board!AB:AB,0),\"\")","v":""},{"$f":"IFERROR(MATCH(\"F\",Board!AC:AC,0),\"\")","v":""},{"$f":"IFERROR(MATCH(\"F\",Board!AD:AD,0),\"\")","v":""},{"$f":"IFERROR(MATCH(\"F\",Board!AE:AE,0),\"\")","v":""},{"$f":"IFERROR(MATCH(\"F\",Board!AF:AF,0),\"\")","v":""},{"$f":"IFERROR(MATCH(\"F\",Board!AG:AG,0),\"\")","v":""},{"$f":"IFERROR(MATCH(\"F\",Board!AH:AH,0),\"\")","v":""},{"$f":"IFERROR(MATCH(\"F\",Board!AI:AI,0),\"\")","v":""},{"$f":"IFERROR(MATCH(\"F\",Board!AJ:AJ,0),\"\")","v":""},{"$f":"IFERROR(MATCH(\"F\",Board!AK:AK,0),\"\")","v":""},{"$f":"IFERROR(MATCH(\"F\",Board!AL:AL,0),\"\")","v":""},{"$f":"IFERROR(MATCH(\"F\",Board!AM:AM,0),\"\")","v":""},{"$f":"IFERROR(MATCH(\"F\",Board!AN:AN,0),\"\")","v":""},{"$f":"IFERROR(MATCH(\"F\",Board!AO:AO,0),\"\")","v":""},{"$f":"IFERROR(MATCH(\"F\",Board!AP:AP,0),\"\")","v":""},{"$f":"IFERROR(MATCH(\"F\",Board!AQ:AQ,0),\"\")","v":""},{"$f":"IFERROR(MATCH(\"F\",Board!AR:AR,0),\"\")","v":""},{"$f":"IFERROR(MATCH(\"F\",Board!AS:AS,0),\"\")","v":""},{"$f":"IFERROR(MATCH(\"F\",Board!AT:AT,0),\"\")","v":""},{"$f":"IFERROR(MATCH(\"F\",Board!AU:AU,0),\"\")","v":""},{"$f":"IFERROR(MATCH(\"F\",Board!AV:AV,0),\"\")","v":""},{"$f":"IFERROR(MATCH(\"F\",Board!AW:AW,0),\"\")","v":""},{"$f":"IFERROR(MATCH(\"F\",Board!AX:AX,0),\"\")","v":""},{"$f":"IFERROR(MATCH(\"F\",Board!AY:AY,0),\"\")","v":""},{"$f":"IFERROR(MATCH(\"F\",Board!AZ:AZ,0),\"\")","v":""},{"$f":"IFERROR(MATCH(\"F\",Board!BA:BA,0),\"\")","v":""},{"$f":"IFERROR(MATCH(\"F\",Board!BB:BB,0),\"\")","v":""},{"$f":"IFERROR(MATCH(\"F\",Board!BC:BC,0),\"\")","v":""},{"$f":"IFERROR(MATCH(\"F\",Board!BD:BD,0),\"\")","v":""},{"$f":"IFERROR(MATCH(\"F\",Board!BE:BE,0),\"\")","v":""},{"$f":"IFERROR(MATCH(\"F\",Board!BF:BF,0),\"\")","v":""},{"$f":"IFERROR(MATCH(\"F\",Board!BG:BG,0),\"\")","v":""},{"$f":"IFERROR(MATCH(\"F\",Board!BH:BH,0),\"\")","v":""},{"$f":"IFERROR(MATCH(\"F\",Board!BI:BI,0),\"\")","v":""},{"$f":"IFERROR(MATCH(\"F\",Board!BJ:BJ,0),\"\")","v":""},{"$f":"IFERROR(MATCH(\"F\",Board!BK:BK,0),\"\")","v":""},{"$f":"IFERROR(MATCH(\"F\",Board!BL:BL,0),\"\")","v":""},{"$f":"IFERROR(MATCH(\"F\",Board!BM:BM,0),\"\")","v":""},{"$f":"IFERROR(MATCH(\"F\",Board!BN:BN,0),\"\")","v":""},{"$f":"IFERROR(MATCH(\"F\",Board!BO:BO,0),\"\")","v":""},{"$f":"IFERROR(MATCH(\"F\",Board!BP:BP,0),\"\")","v":""},{"$f":"IFERROR(MATCH(\"F\",Board!BQ:BQ,0),\"\")","v":""},{"$f":"IFERROR(MATCH(\"F\",Board!BR:BR,0),\"\")","v":""},{"$f":"IFERROR(MATCH(\"F\",Board!BS:BS,0),\"\")","v":""},{"$f":"IFERROR(MATCH(\"F\",Board!BT:BT,0),\"\")","v":""},{"$f":"IFERROR(MATCH(\"F\",Board!BU:BU,0),\"\")","v":""},{"$f":"IFERROR(MATCH(\"F\",Board!BV:BV,0),\"\")","v":""},{"$f":"IFERROR(MATCH(\"F\",Board!BW:BW,0),\"\")","v":""},{"$f":"IFERROR(MATCH(\"F\",Board!BX:BX,0),\"\")","v":""},{"$f":"IFERROR(MATCH(\"F\",Board!BY:BY,0),\"\")","v":""},{"$f":"IFERROR(MATCH(\"F\",Board!BZ:BZ,0),\"\")","v":""},{"$f":"IFERROR(MATCH(\"F\",Board!CA:CA,0),\"\")","v":""},{"$f":"IFERROR(MATCH(\"F\",Board!CB:CB,0),\"\")","v":""},{"$f":"IFERROR(MATCH(\"F\",Board!CC:CC,0),\"\")","v":""},{"$f":"IFERROR(MATCH(\"F\",Board!CD:CD,0),\"\")","v":""},{"$f":"IFERROR(MATCH(\"F\",Board!CE:CE,0),\"\")","v":""},{"$f":"IFERROR(MATCH(\"F\",Board!CF:CF,0),\"\")","v":""},{"$f":"IFERROR(MATCH(\"F\",Board!CG:CG,0),\"\")","v":""},{"$f":"IFERROR(MATCH(\"F\",Board!CH:CH,0),\"\")","v":""},{"$f":"IFERROR(MATCH(\"F\",Board!CI:CI,0),\"\")","v":""},{"$f":"IFERROR(MATCH(\"F\",Board!CJ:CJ,0),\"\")","v":""},{"$f":"IFERROR(MATCH(\"F\",Board!CK:CK,0),\"\")","v":""},{"$f":"IFERROR(MATCH(\"F\",Board!CL:CL,0),\"\")","v":""},{"$f":"IFERROR(MATCH(\"F\",Board!CM:CM,0),\"\")","v":""},{"$f":"IFERROR(MATCH(\"F\",Board!CN:CN,0),\"\")","v":""},{"$f":"IFERROR(MATCH(\"F\",Board!CO:CO,0),\"\")","v":""},{"$f":"IFERROR(MATCH(\"F\",Board!CP:CP,0),\"\")","v":""},{"$f":"IFERROR(MATCH(\"F\",Board!CQ:CQ,0),\"\")","v":""},{"$f":"IFERROR(MATCH(\"F\",Board!CR:CR,0),\"\")","v":""},{"$f":"IFERROR(MATCH(\"F\",Board!CS:CS,0),\"\")","v":""},{"$f":"IFERROR(MATCH(\"F\",Board!CT:CT,0),\"\")","v":""},{"$f":"IFERROR(MATCH(\"F\",Board!CU:CU,0),\"\")","v":""},{"$f":"IFERROR(MATCH(\"F\",Board!CV:CV,0),\"\")","v":""},{"$f":"IFERROR(MATCH(\"F\",Board!CW:CW,0),\"\")","v":""},{"$f":"IFERROR(MATCH(\"F\",Board!CX:CX,0),\"\")","v":""},{"$f":"IFERROR(MATCH(\"F\",Board!CY:CY,0),\"\")","v":""},{"$f":"IFERROR(MATCH(\"F\",Board!CZ:CZ,0),\"\")","v":""},{"$f":"IFERROR(MATCH(\"F\",Board!DA:DA,0),\"\")","v":""},{"$f":"IFERROR(MATCH(\"F\",Board!DB:DB,0),\"\")","v":""},{"$f":"IFERROR(MATCH(\"F\",Board!DC:DC,0),\"\")","v":""},{"$f":"IFERROR(MATCH(\"F\",Board!DD:DD,0),\"\")","v":""},{"$f":"IFERROR(MATCH(\"F\",Board!DE:DE,0),\"\")","v":""},{"$f":"IFERROR(MATCH(\"F\",Board!DF:DF,0),\"\")","v":""},{"$f":"IFERROR(MATCH(\"F\",Board!DG:DG,0),\"\")","v":""},{"$f":"IFERROR(MATCH(\"F\",Board!DH:DH,0),\"\")","v":""},{"$f":"IFERROR(MATCH(\"F\",Board!DI:DI,0),\"\")","v":""},{"$f":"IFERROR(MATCH(\"F\",Board!DJ:DJ,0),\"\")","v":""},{"$f":"IFERROR(MATCH(\"F\",Board!DK:DK,0),\"\")","v":""},{"$f":"IFERROR(MATCH(\"F\",Board!DL:DL,0),\"\")","v":""},{"$f":"IFERROR(MATCH(\"F\",Board!DM:DM,0),\"\")","v":""},{"$f":"IFERROR(MATCH(\"F\",Board!DN:DN,0),\"\")","v":""},{"$f":"IFERROR(MATCH(\"F\",Board!DO:DO,0),\"\")","v":""},{"$f":"IFERROR(MATCH(\"F\",Board!DP:DP,0),\"\")","v":""},{"$f":"IFERROR(MATCH(\"F\",Board!DQ:DQ,0),\"\")","v":""},{"$f":"IFERROR(MATCH(\"F\",Board!DR:DR,0),\"\")","v":""},{"$f":"IFERROR(MATCH(\"F\",Board!DS:DS,0),\"\")","v":""},{"$f":"IFERROR(MATCH(\"F\",Board!DT:DT,0),\"\")","v":""},{"$f":"IFERROR(MATCH(\"F\",Board!DU:DU,0),\"\")","v":""},{"$f":"IFERROR(MATCH(\"F\",Board!DV:DV,0),\"\")","v":""},{"$f":"IFERROR(MATCH(\"F\",Board!DW:DW,0),\"\")","v":""},{"$f":"IFERROR(MATCH(\"F\",Board!DX:DX,0),\"\")","v":""},{"$f":"IFERROR(MATCH(\"F\",Board!DY:DY,0),\"\")","v":""},{"$f":"IFERROR(MATCH(\"F\",Board!DZ:DZ,0),\"\")","v":""},{"$f":"IFERROR(MATCH(\"F\",Board!EA:EA,0),\"\")","v":""},{"$f":"IFERROR(MATCH(\"F\",Board!EB:EB,0),\"\")","v":""},{"$f":"IFERROR(MATCH(\"F\",Board!EC:EC,0),\"\")","v":""},{"$f":"IFERROR(MATCH(\"F\",Board!ED:ED,0),\"\")","v":""},{"$f":"IFERROR(MATCH(\"F\",Board!EE:EE,0),\"\")","v":""},{"$f":"IFERROR(MATCH(\"F\",Board!EF:EF,0),\"\")","v":""},{"$f":"IFERROR(MATCH(\"F\",Board!EG:EG,0),\"\")","v":""},{"$f":"IFERROR(MATCH(\"F\",Board!EH:EH,0),\"\")","v":""},{"$f":"IFERROR(MATCH(\"F\",Board!EI:EI,0),\"\")","v":""},{"$f":"IFERROR(MATCH(\"F\",Board!EJ:EJ,0),\"\")","v":""},{"$f":"IFERROR(MATCH(\"F\",Board!EK:EK,0),\"\")","v":""},{"$f":"IFERROR(MATCH(\"F\",Board!EL:EL,0),\"\")","v":""},{"$f":"IFERROR(MATCH(\"F\",Board!EM:EM,0),\"\")","v":""},{"$f":"IFERROR(MATCH(\"F\",Board!EN:EN,0),\"\")","v":""},{"$f":"IFERROR(MATCH(\"F\",Board!EO:EO,0),\"\")","v":""},{"$f":"IFERROR(MATCH(\"F\",Board!EP:EP,0),\"\")","v":""},{"$f":"IFERROR(MATCH(\"F\",Board!EQ:EQ,0),\"\")","v":""},{"$f":"IFERROR(MATCH(\"F\",Board!ER:ER,0),\"\")","v":""},{"$f":"IFERROR(MATCH(\"F\",Board!ES:ES,0),\"\")","v":""},{"$f":"IFERROR(MATCH(\"F\",Board!ET:ET,0),\"\")","v":""},{"$f":"IFERROR(MATCH(\"F\",Board!EU:EU,0),\"\")","v":""},{"$f":"IFERROR(MATCH(\"F\",Board!EV:EV,0),\"\")","v":""},{"$f":"IFERROR(MATCH(\"F\",Board!EW:EW,0),\"\")","v":""},{"$f":"IFERROR(MATCH(\"F\",Board!EX:EX,0),\"\")","v":""},{"$f":"IFERROR(MATCH(\"F\",Board!EY:EY,0),\"\")","v":""},{"$f":"IFERROR(MATCH(\"F\",Board!EZ:EZ,0),\"\")","v":""},{"$f":"IFERROR(MATCH(\"F\",Board!FA:FA,0),\"\")","v":""},{"$f":"IFERROR(MATCH(\"F\",Board!FB:FB,0),\"\")","v":""},{"$f":"IFERROR(MATCH(\"F\",Board!FC:FC,0),\"\")","v":""},{"$f":"IFERROR(MATCH(\"F\",Board!FD:FD,0),\"\")","v":""},{"$f":"IFERROR(MATCH(\"F\",Board!FE:FE,0),\"\")","v":""},{"$f":"IFERROR(MATCH(\"F\",Board!FF:FF,0),\"\")","v":""},{"$f":"IFERROR(MATCH(\"F\",Board!FG:FG,0),\"\")","v":""},{"$f":"IFERROR(MATCH(\"F\",Board!FH:FH,0),\"\")","v":""},{"$f":"IFERROR(MATCH(\"F\",Board!FI:FI,0),\"\")","v":""},{"$f":"IFERROR(MATCH(\"F\",Board!FJ:FJ,0),\"\")","v":""},{"$f":"IFERROR(MATCH(\"F\",Board!FK:FK,0),\"\")","v":""},{"$f":"IFERROR(MATCH(\"F\",Board!FL:FL,0),\"\")","v":""},{"$f":"IFERROR(MATCH(\"F\",Board!FM:FM,0),\"\")","v":""},{"$f":"IFERROR(MATCH(\"F\",Board!FN:FN,0),\"\")","v":""},{"$f":"IFERROR(MATCH(\"F\",Board!FO:FO,0),\"\")","v":""},{"$f":"IFERROR(MATCH(\"F\",Board!FP:FP,0),\"\")","v":""},{"$f":"IFERROR(MATCH(\"F\",Board!FQ:FQ,0),\"\")","v":""},{"$f":"IFERROR(MATCH(\"F\",Board!FR:FR,0),\"\")","v":""},{"$f":"IFERROR(MATCH(\"F\",Board!FS:FS,0),\"\")","v":""},{"$f":"IFERROR(MATCH(\"F\",Board!FT:FT,0),\"\")","v":""},{"$f":"IFERROR(MATCH(\"F\",Board!FU:FU,0),\"\")","v":""},{"$f":"IFERROR(MATCH(\"F\",Board!FV:FV,0),\"\")","v":""},{"$f":"IFERROR(MATCH(\"F\",Board!FW:FW,0),\"\")","v":""},{"$f":"IFERROR(MATCH(\"F\",Board!FX:FX,0),\"\")","v":""},{"$f":"IFERROR(MATCH(\"F\",Board!FY:FY,0),\"\")","v":""},{"$f":"IFERROR(MATCH(\"F\",Board!FZ:FZ,0),\"\")","v":""},{"$f":"IFERROR(MATCH(\"F\",Board!GA:GA,0),\"\")","v":""},{"$f":"IFERROR(MATCH(\"F\",Board!GB:GB,0),\"\")","v":""},{"$f":"IFERROR(MATCH(\"F\",Board!GC:GC,0),\"\")","v":""},{"$f":"IFERROR(MATCH(\"F\",Board!GD:GD,0),\"\")","v":""},{"$f":"IFERROR(MATCH(\"F\",Board!GE:GE,0),\"\")","v":""},{"$f":"IFERROR(MATCH(\"F\",Board!GF:GF,0),\"\")","v":""},{"$f":"IFERROR(MATCH(\"F\",Board!GG:GG,0),\"\")","v":""},{"$f":"IFERROR(MATCH(\"F\",Board!GH:GH,0),\"\")","v":""},{"$f":"IFERROR(MATCH(\"F\",Board!GI:GI,0),\"\")","v":""},{"$f":"IFERROR(MATCH(\"F\",Board!GJ:GJ,0),\"\")","v":""},{"$f":"IFERROR(MATCH(\"F\",Board!GK:GK,0),\"\")","v":""},{"$f":"IFERROR(MATCH(\"F\",Board!GL:GL,0),\"\")","v":""},{"$f":"IFERROR(MATCH(\"F\",Board!GM:GM,0),\"\")","v":""},{"$f":"IFERROR(MATCH(\"F\",Board!GN:GN,0),\"\")","v":""},{"$f":"IFERROR(MATCH(\"F\",Board!GO:GO,0),\"\")","v":""},{"$f":"IFERROR(MATCH(\"F\",Board!GP:GP,0),\"\")","v":""},{"$f":"IFERROR(MATCH(\"F\",Board!GQ:GQ,0),\"\")","v":""},{"$f":"IFERROR(MATCH(\"F\",Board!GR:GR,0),\"\")","v":""},{"$f":"IFERROR(MATCH(\"F\",Board!GS:GS,0),\"\")","v":""},{"$f":"IFERROR(MATCH(\"F\",Board!GT:GT,0),\"\")","v":""},{"$f":"IFERROR(MATCH(\"F\",Board!GU:GU,0),\"\")","v":""},{"$f":"IFERROR(MATCH(\"F\",Board!GV:GV,0),\"\")","v":""},{"$f":"IFERROR(MATCH(\"F\",Board!GW:GW,0),\"\")","v":""},{"$f":"IFERROR(MATCH(\"F\",Board!GX:GX,0),\"\")","v":""},{"$f":"IFERROR(MATCH(\"F\",Board!GY:GY,0),\"\")","v":""},{"$f":"IFERROR(MATCH(\"F\",Board!GZ:GZ,0),\"\")","v":""},{"$f":"IFERROR(MATCH(\"F\",Board!HA:HA,0),\"\")","v":""},{"$f":"IFERROR(MATCH(\"F\",Board!HB:HB,0),\"\")","v":""},{"$f":"IFERROR(MATCH(\"F\",Board!HC:HC,0),\"\")","v":""},{"$f":"IFERROR(MATCH(\"F\",Board!HD:HD,0),\"\")","v":""},{"$f":"IFERROR(MATCH(\"F\",Board!HE:HE,0),\"\")","v":""},{"$f":"IFERROR(MATCH(\"F\",Board!HF:HF,0),\"\")","v":""},{"$f":"IFERROR(MATCH(\"F\",Board!HG:HG,0),\"\")","v":""},{"$f":"IFERROR(MATCH(\"F\",Board!HH:HH,0),\"\")","v":""},{"$f":"IFERROR(MATCH(\"F\",Board!HI:HI,0),\"\")","v":""},{"$f":"IFERROR(MATCH(\"F\",Board!HJ:HJ,0),\"\")","v":""},{"$f":"IFERROR(MATCH(\"F\",Board!HK:HK,0),\"\")","v":""},{"$f":"IFERROR(MATCH(\"F\",Board!HL:HL,0),\"\")","v":""},{"$f":"IFERROR(MATCH(\"F\",Board!HM:HM,0),\"\")","v":""},{"$f":"IFERROR(MATCH(\"F\",Board!HN:HN,0),\"\")","v":""},{"$f":"IFERROR(MATCH(\"F\",Board!HO:HO,0),\"\")","v":""},{"$f":"IFERROR(MATCH(\"F\",Board!HP:HP,0),\"\")","v":""},{"$f":"IFERROR(MATCH(\"F\",Board!HQ:HQ,0),\"\")","v":""},{"$f":"IFERROR(MATCH(\"F\",Board!HR:HR,0),\"\")","v":""},{"$f":"IFERROR(MATCH(\"F\",Board!HS:HS,0),\"\")","v":""},{"$f":"IFERROR(MATCH(\"F\",Board!HT:HT,0),\"\")","v":""},{"$f":"IFERROR(MATCH(\"F\",Board!HU:HU,0),\"\")","v":""},{"$f":"IFERROR(MATCH(\"F\",Board!HV:HV,0),\"\")","v":""},{"$f":"IFERROR(MATCH(\"F\",Board!HW:HW,0),\"\")","v":""},{"$f":"IFERROR(MATCH(\"F\",Board!HX:HX,0),\"\")","v":""},{"$f":"IFERROR(MATCH(\"F\",Board!HY:HY,0),\"\")","v":""},{"$f":"IFERROR(MATCH(\"F\",Board!HZ:HZ,0),\"\")","v":""},{"$f":"IFERROR(MATCH(\"F\",Board!IA:IA,0),\"\")","v":""},{"$f":"IFERROR(MATCH(\"F\",Board!IB:IB,0),\"\")","v":""},{"$f":"IFERROR(MATCH(\"F\",Board!IC:IC,0),\"\")","v":""},{"$f":"IFERROR(MATCH(\"F\",Board!ID:ID,0),\"\")","v":""},{"$f":"IFERROR(MATCH(\"F\",Board!IE:IE,0),\"\")","v":""},{"$f":"IFERROR(MATCH(\"F\",Board!IF:IF,0),\"\")","v":""},{"$f":"IFERROR(MATCH(\"F\",Board!IG:IG,0),\"\")","v":""},{"$f":"IFERROR(MATCH(\"F\",Board!IH:IH,0),\"\")","v":""},{"$f":"IFERROR(MATCH(\"F\",Board!II:II,0),\"\")","v":""},{"$f":"IFERROR(MATCH(\"F\",Board!IJ:IJ,0),\"\")","v":""},{"$f":"IFERROR(MATCH(\"F\",Board!IK:IK,0),\"\")","v":""},{"$f":"IFERROR(MATCH(\"F\",Board!IL:IL,0),\"\")","v":""},{"$f":"IFERROR(MATCH(\"F\",Board!IM:IM,0),\"\")","v":""},{"$f":"IFERROR(MATCH(\"F\",Board!IN:IN,0),\"\")","v":""},{"$f":"IFERROR(MATCH(\"F\",Board!IO:IO,0),\"\")","v":""},{"$f":"IFERROR(MATCH(\"F\",Board!IP:IP,0),\"\")","v":""},{"$f":"IFERROR(MATCH(\"F\",Board!IQ:IQ,0),\"\")","v":""},{"$f":"IFERROR(MATCH(\"F\",Board!IR:IR,0),\"\")","v":""},{"$f":"IFERROR(MATCH(\"F\",Board!IS:IS,0),\"\")","v":""},{"$f":"IFERROR(MATCH(\"F\",Board!IT:IT,0),\"\")","v":""},{"$f":"IFERROR(MATCH(\"F\",Board!IU:IU,0),\"\")","v":""},{"$f":"IFERROR(MATCH(\"F\",Board!IV:IV,0),\"\")","v":""},{"$f":"IFERROR(MATCH(\"F\",Board!IW:IW,0),\"\")","v":""},{"$f":"IFERROR(MATCH(\"F\",Board!IX:IX,0),\"\")","v":""},{"$f":"IFERROR(MATCH(\"F\",Board!IY:IY,0),\"\")","v":""},{"$f":"IFERROR(MATCH(\"F\",Board!IZ:IZ,0),\"\")","v":""},{"$f":"IFERROR(MATCH(\"F\",Board!JA:JA,0),\"\")","v":""},{"$f":"IFERROR(MATCH(\"F\",Board!JB:JB,0),\"\")","v":""},{"$f":"IFERROR(MATCH(\"F\",Board!JC:JC,0),\"\")","v":""},{"$f":"IFERROR(MATCH(\"F\",Board!JD:JD,0),\"\")","v":""},{"$f":"IFERROR(MATCH(\"F\",Board!JE:JE,0),\"\")","v":""},{"$f":"IFERROR(MATCH(\"F\",Board!JF:JF,0),\"\")","v":""},{"$f":"IFERROR(MATCH(\"F\",Board!JG:JG,0),\"\")","v":""},{"$f":"IFERROR(MATCH(\"F\",Board!JH:JH,0),\"\")","v":""},{"$f":"IFERROR(MATCH(\"F\",Board!JI:JI,0),\"\")","v":""},{"$f":"IFERROR(MATCH(\"F\",Board!JJ:JJ,0),\"\")","v":""},{"$f":"IFERROR(MATCH(\"F\",Board!JK:JK,0),\"\")","v":""},{"$f":"IFERROR(MATCH(\"F\",Board!JL:JL,0),\"\")","v":""},{"$f":"IFERROR(MATCH(\"F\",Board!JM:JM,0),\"\")","v":""},{"$f":"IFERROR(MATCH(\"F\",Board!JN:JN,0),\"\")","v":""},{"$f":"IFERROR(MATCH(\"F\",Board!JO:JO,0),\"\")","v":""},{"$f":"IFERROR(MATCH(\"F\",Board!JP:JP,0),\"\")","v":""},{"$f":"IFERROR(MATCH(\"F\",Board!JQ:JQ,0),\"\")","v":""},{"$f":"IFERROR(MATCH(\"F\",Board!JR:JR,0),\"\")","v":""},{"$f":"IFERROR(MATCH(\"F\",Board!JS:JS,0),\"\")","v":""},{"$f":"IFERROR(MATCH(\"F\",Board!JT:JT,0),\"\")","v":""},{"$f":"IFERROR(MATCH(\"F\",Board!JU:JU,0),\"\")","v":""},{"$f":"IFERROR(MATCH(\"F\",Board!JV:JV,0),\"\")","v":""},{"$f":"IFERROR(MATCH(\"F\",Board!JW:JW,0),\"\")","v":""},{"$f":"IFERROR(MATCH(\"F\",Board!JX:JX,0),\"\")","v":""},{"$f":"IFERROR(MATCH(\"F\",Board!JY:JY,0),\"\")","v":""},{"$f":"IFERROR(MATCH(\"F\",Board!JZ:JZ,0),\"\")","v":""},{"$f":"IFERROR(MATCH(\"F\",Board!KA:KA,0),\"\")","v":""},{"$f":"IFERROR(MATCH(\"F\",Board!KB:KB,0),\"\")","v":""},{"$f":"IFERROR(MATCH(\"F\",Board!KC:KC,0),\"\")","v":""},{"$f":"IFERROR(MATCH(\"F\",Board!KD:KD,0),\"\")","v":""},{"$f":"IFERROR(MATCH(\"F\",Board!KE:KE,0),\"\")","v":""},{"$f":"IFERROR(MATCH(\"F\",Board!KF:KF,0),\"\")","v":""},{"$f":"IFERROR(MATCH(\"F\",Board!KG:KG,0),\"\")","v":""},{"$f":"IFERROR(MATCH(\"F\",Board!KH:KH,0),\"\")","v":""},{"$f":"IFERROR(MATCH(\"F\",Board!KI:KI,0),\"\")","v":""},{"$f":"IFERROR(MATCH(\"F\",Board!KJ:KJ,0),\"\")","v":""},{"$f":"IFERROR(MATCH(\"F\",Board!KK:KK,0),\"\")","v":""},{"$f":"IFERROR(MATCH(\"F\",Board!KL:KL,0),\"\")","v":""},{"$f":"IFERROR(MATCH(\"F\",Board!KM:KM,0),\"\")","v":""},{"$f":"IFERROR(MATCH(\"F\",Board!KN:KN,0),\"\")","v":""},{"$f":"IFERROR(MATCH(\"F\",Board!KO:KO,0),\"\")","v":""},{"$f":"IFERROR(MATCH(\"F\",Board!KP:KP,0),\"\")","v":""},{"$f":"IFERROR(MATCH(\"F\",Board!KQ:KQ,0),\"\")","v":""},{"$f":"IFERROR(MATCH(\"F\",Board!KR:KR,0),\"\")","v":""},{"$f":"IFERROR(MATCH(\"F\",Board!KS:KS,0),\"\")","v":""},{"$f":"IFERROR(MATCH(\"F\",Board!KT:KT,0),\"\")","v":""},{"$f":"IFERROR(MATCH(\"F\",Board!KU:KU,0),\"\")","v":""},{"$f":"IFERROR(MATCH(\"F\",Board!KV:KV,0),\"\")","v":""},{"$f":"IFERROR(MATCH(\"F\",Board!KW:KW,0),\"\")","v":""},{"$f":"IFERROR(MATCH(\"F\",Board!KX:KX,0),\"\")","v":""},{"$f":"IFERROR(MATCH(\"F\",Board!KY:KY,0),\"\")","v":""},{"$f":"IFERROR(MATCH(\"F\",Board!KZ:KZ,0),\"\")","v":""},{"$f":"IFERROR(MATCH(\"F\",Board!LA:LA,0),\"\")","v":""},{"$f":"IFERROR(MATCH(\"F\",Board!LB:LB,0),\"\")","v":""},{"$f":"IFERROR(MATCH(\"F\",Board!LC:LC,0),\"\")","v":""},{"$f":"IFERROR(MATCH(\"F\",Board!LD:LD,0),\"\")","v":""},{"$f":"IFERROR(MATCH(\"F\",Board!LE:LE,0),\"\")","v":""},{"$f":"IFERROR(MATCH(\"F\",Board!LF:LF,0),\"\")","v":""},{"$f":"IFERROR(MATCH(\"F\",Board!LG:LG,0),\"\")","v":""},{"$f":"IFERROR(MATCH(\"F\",Board!LH:LH,0),\"\")","v":""},{"$f":"IFERROR(MATCH(\"F\",Board!LI:LI,0),\"\")","v":""},{"$f":"IFERROR(MATCH(\"F\",Board!LJ:LJ,0),\"\")","v":""},{"$f":"IFERROR(MATCH(\"F\",Board!LK:LK,0),\"\")","v":""},{"$f":"IFERROR(MATCH(\"F\",Board!LL:LL,0),\"\")","v":""},{"$f":"IFERROR(MATCH(\"F\",Board!LM:LM,0),\"\")","v":""},{"$f":"IFERROR(MATCH(\"F\",Board!LN:LN,0),\"\")","v":""},{"$f":"IFERROR(MATCH(\"F\",Board!LO:LO,0),\"\")","v":""},{"$f":"IFERROR(MATCH(\"F\",Board!LP:LP,0),\"\")","v":""},{"$f":"IFERROR(MATCH(\"F\",Board!LQ:LQ,0),\"\")","v":""},{"$f":"IFERROR(MATCH(\"F\",Board!LR:LR,0),\"\")","v":""},{"$f":"IFERROR(MATCH(\"F\",Board!LS:LS,0),\"\")","v":""},{"$f":"IFERROR(MATCH(\"F\",Board!LT:LT,0),\"\")","v":""},{"$f":"IFERROR(MATCH(\"F\",Board!LU:LU,0),\"\")","v":""},{"$f":"IFERROR(MATCH(\"F\",Board!LV:LV,0),\"\")","v":""},{"$f":"IFERROR(MATCH(\"F\",Board!LW:LW,0),\"\")","v":""},{"$f":"IFERROR(MATCH(\"F\",Board!LX:LX,0),\"\")","v":""},{"$f":"IFERROR(MATCH(\"F\",Board!LY:LY,0),\"\")","v":""},{"$f":"IFERROR(MATCH(\"F\",Board!LZ:LZ,0),\"\")","v":""},{"$f":"IFERROR(MATCH(\"F\",Board!MA:MA,0),\"\")","v":""},{"$f":"IFERROR(MATCH(\"F\",Board!MB:MB,0),\"\")","v":""},{"$f":"IFERROR(MATCH(\"F\",Board!MC:MC,0),\"\")","v":""},{"$f":"IFERROR(MATCH(\"F\",Board!MD:MD,0),\"\")","v":""},{"$f":"IFERROR(MATCH(\"F\",Board!ME:ME,0),\"\")","v":""},{"$f":"IFERROR(MATCH(\"F\",Board!MF:MF,0),\"\")","v":""},{"$f":"IFERROR(MATCH(\"F\",Board!MG:MG,0),\"\")","v":""},{"$f":"IFERROR(MATCH(\"F\",Board!MH:MH,0),\"\")","v":""},{"$f":"IFERROR(MATCH(\"F\",Board!MI:MI,0),\"\")","v":""},{"$f":"IFERROR(MATCH(\"F\",Board!MJ:MJ,0),\"\")","v":""},{"$f":"IFERROR(MATCH(\"F\",Board!MK:MK,0),\"\")","v":""},{"$f":"IFERROR(MATCH(\"F\",Board!ML:ML,0),\"\")","v":""},{"$f":"IFERROR(MATCH(\"F\",Board!MM:MM,0),\"\")","v":""},{"$f":"IFERROR(MATCH(\"F\",Board!MN:MN,0),\"\")","v":""},{"$f":"IFERROR(MATCH(\"F\",Board!MO:MO,0),\"\")","v":""},{"$f":"IFERROR(MATCH(\"F\",Board!MP:MP,0),\"\")","v":""},{"$f":"IFERROR(MATCH(\"F\",Board!MQ:MQ,0),\"\")","v":""},{"$f":"IFERROR(MATCH(\"F\",Board!MR:MR,0),\"\")","v":""},{"$f":"IFERROR(MATCH(\"F\",Board!MS:MS,0),\"\")","v":""},{"$f":"IFERROR(MATCH(\"F\",Board!MT:MT,0),\"\")","v":""},{"$f":"IFERROR(MATCH(\"F\",Board!MU:MU,0),\"\")","v":""},{"$f":"IFERROR(MATCH(\"F\",Board!MV:MV,0),\"\")","v":""},{"$f":"IFERROR(MATCH(\"F\",Board!MW:MW,0),\"\")","v":""},{"$f":"IFERROR(MATCH(\"F\",Board!MX:MX,0),\"\")","v":""},{"$f":"IFERROR(MATCH(\"F\",Board!MY:MY,0),\"\")","v":""},{"$f":"IFERROR(MATCH(\"F\",Board!MZ:MZ,0),\"\")","v":""},{"$f":"IFERROR(MATCH(\"F\",Board!NA:NA,0),\"\")","v":""},{"$f":"IFERROR(MATCH(\"F\",Board!NB:NB,0),\"\")","v":""},{"$f":"IFERROR(MATCH(\"F\",Board!NC:NC,0),\"\")","v":""},{"$f":"IFERROR(MATCH(\"F\",Board!ND:ND,0),\"\")","v":""},{"$f":"IFERROR(MATCH(\"F\",Board!NE:NE,0),\"\")","v":""},{"$f":"IFERROR(MATCH(\"F\",Board!NF:NF,0),\"\")","v":""},{"$f":"IFERROR(MATCH(\"F\",Board!NG:NG,0),\"\")","v":""},{"$f":"IFERROR(MATCH(\"F\",Board!NH:NH,0),\"\")","v":""},{"$f":"IFERROR(MATCH(\"F\",Board!NI:NI,0),\"\")","v":""},{"$f":"IFERROR(MATCH(\"F\",Board!NJ:NJ,0),\"\")","v":""},{"$f":"IFERROR(MATCH(\"F\",Board!NK:NK,0),\"\")","v":""},{"$f":"IFERROR(MATCH(\"F\",Board!NL:NL,0),\"\")","v":""},{"$f":"IFERROR(MATCH(\"F\",Board!NM:NM,0),\"\")","v":""},{"$f":"IFERROR(MATCH(\"F\",Board!NN:NN,0),\"\")","v":""},{"$f":"IFERROR(MATCH(\"F\",Board!NO:NO,0),\"\")","v":""},{"$f":"IFERROR(MATCH(\"F\",Board!NP:NP,0),\"\")","v":""},{"$f":"IFERROR(MATCH(\"F\",Board!NQ:NQ,0),\"\")","v":""},{"$f":"IFERROR(MATCH(\"F\",Board!NR:NR,0),\"\")","v":""},{"$f":"IFERROR(MATCH(\"F\",Board!NS:NS,0),\"\")","v":""},{"$f":"IFERROR(MATCH(\"F\",Board!NT:NT,0),\"\")","v":""},{"$f":"IFERROR(MATCH(\"F\",Board!NU:NU,0),\"\")","v":""},{"$f":"IFERROR(MATCH(\"F\",Board!NV:NV,0),\"\")","v":""},{"$f":"IFERROR(MATCH(\"F\",Board!NW:NW,0),\"\")","v":""},{"$f":"IFERROR(MATCH(\"F\",Board!NX:NX,0),\"\")","v":""},{"$f":"IFERROR(MATCH(\"F\",Board!NY:NY,0),\"\")","v":""},{"$f":"IFERROR(MATCH(\"F\",Board!NZ:NZ,0),\"\")","v":""},{"$f":"IFERROR(MATCH(\"F\",Board!OA:OA,0),\"\")","v":""},{"$f":"IFERROR(MATCH(\"F\",Board!OB:OB,0),\"\")","v":""},{"$f":"IFERROR(MATCH(\"F\",Board!OC:OC,0),\"\")","v":""},{"$f":"IFERROR(MATCH(\"F\",Board!OD:OD,0),\"\")","v":""},{"$f":"IFERROR(MATCH(\"F\",Board!OE:OE,0),\"\")","v":""},{"$f":"IFERROR(MATCH(\"F\",Board!OF:OF,0),\"\")","v":""},{"$f":"IFERROR(MATCH(\"F\",Board!OG:OG,0),\"\")","v":""},{"$f":"IFERROR(MATCH(\"F\",Board!OH:OH,0),\"\")","v":""},{"$f":"IFERROR(MATCH(\"F\",Board!OI:OI,0),\"\")","v":""},{"$f":"IFERROR(MATCH(\"F\",Board!OJ:OJ,0),\"\")","v":""},{"$f":"IFERROR(MATCH(\"F\",Board!OK:OK,0),\"\")","v":""},{"$f":"IFERROR(MATCH(\"F\",Board!OL:OL,0),\"\")","v":""},{"$f":"IFERROR(MATCH(\"F\",Board!OM:OM,0),\"\")","v":""},{"$f":"IFERROR(MATCH(\"F\",Board!ON:ON,0),\"\")","v":""},{"$f":"IFERROR(MATCH(\"F\",Board!OO:OO,0),\"\")","v":""},{"$f":"IFERROR(MATCH(\"F\",Board!OP:OP,0),\"\")","v":""},{"$f":"IFERROR(MATCH(\"F\",Board!OQ:OQ,0),\"\")","v":""},{"$f":"IFERROR(MATCH(\"F\",Board!OR:OR,0),\"\")","v":""},{"$f":"IFERROR(MATCH(\"F\",Board!OS:OS,0),\"\")","v":""},{"$f":"IFERROR(MATCH(\"F\",Board!OT:OT,0),\"\")","v":""},{"$f":"IFERROR(MATCH(\"F\",Board!OU:OU,0),\"\")","v":""},{"$f":"IFERROR(MATCH(\"F\",Board!OV:OV,0),\"\")","v":""},{"$f":"IFERROR(MATCH(\"F\",Board!OW:OW,0),\"\")","v":""},{"$f":"IFERROR(MATCH(\"F\",Board!OX:OX,0),\"\")","v":""},{"$f":"IFERROR(MATCH(\"F\",Board!OY:OY,0),\"\")","v":""},{"$f":"IFERROR(MATCH(\"F\",Board!OZ:OZ,0),\"\")","v":""},{"$f":"IFERROR(MATCH(\"F\",Board!PA:PA,0),\"\")","v":""},{"$f":"IFERROR(MATCH(\"F\",Board!PB:PB,0),\"\")","v":""},{"$f":"IFERROR(MATCH(\"F\",Board!PC:PC,0),\"\")","v":""},{"$f":"IFERROR(MATCH(\"F\",Board!PD:PD,0),\"\")","v":""},{"$f":"IFERROR(MATCH(\"F\",Board!PE:PE,0),\"\")","v":""},{"$f":"IFERROR(MATCH(\"F\",Board!PF:PF,0),\"\")","v":""},{"$f":"IFERROR(MATCH(\"F\",Board!PG:PG,0),\"\")","v":""},{"$f":"IFERROR(MATCH(\"F\",Board!PH:PH,0),\"\")","v":""},{"$f":"IFERROR(MATCH(\"F\",Board!PI:PI,0),\"\")","v":""},{"$f":"IFERROR(MATCH(\"F\",Board!PJ:PJ,0),\"\")","v":""},{"$f":"IFERROR(MATCH(\"F\",Board!PK:PK,0),\"\")","v":""},{"$f":"IFERROR(MATCH(\"F\",Board!PL:PL,0),\"\")","v":""},{"$f":"IFERROR(MATCH(\"F\",Board!PM:PM,0),\"\")","v":""},{"$f":"IFERROR(MATCH(\"F\",Board!PN:PN,0),\"\")","v":""},{"$f":"IFERROR(MATCH(\"F\",Board!PO:PO,0),\"\")","v":""},{"$f":"IFERROR(MATCH(\"F\",Board!PP:PP,0),\"\")","v":""},{"$f":"IFERROR(MATCH(\"F\",Board!PQ:PQ,0),\"\")","v":""},{"$f":"IFERROR(MATCH(\"F\",Board!PR:PR,0),\"\")","v":""},{"$f":"IFERROR(MATCH(\"F\",Board!PS:PS,0),\"\")","v":""},{"$f":"IFERROR(MATCH(\"F\",Board!PT:PT,0),\"\")","v":""},{"$f":"IFERROR(MATCH(\"F\",Board!PU:PU,0),\"\")","v":""},{"$f":"IFERROR(MATCH(\"F\",Board!PV:PV,0),\"\")","v":""},{"$f":"IFERROR(MATCH(\"F\",Board!PW:PW,0),\"\")","v":""},{"$f":"IFERROR(MATCH(\"F\",Board!PX:PX,0),\"\")","v":""},{"$f":"IFERROR(MATCH(\"F\",Board!PY:PY,0),\"\")","v":""},{"$f":"IFERROR(MATCH(\"F\",Board!PZ:PZ,0),\"\")","v":""},{"$f":"IFERROR(MATCH(\"F\",Board!QA:QA,0),\"\")","v":""},{"$f":"IFERROR(MATCH(\"F\",Board!QB:QB,0),\"\")","v":""},{"$f":"IFERROR(MATCH(\"F\",Board!QC:QC,0),\"\")","v":""},{"$f":"IFERROR(MATCH(\"F\",Board!QD:QD,0),\"\")","v":""},{"$f":"IFERROR(MATCH(\"F\",Board!QE:QE,0),\"\")","v":""},{"$f":"IFERROR(MATCH(\"F\",Board!QF:QF,0),\"\")","v":""},{"$f":"IFERROR(MATCH(\"F\",Board!QG:QG,0),\"\")","v":""},{"$f":"IFERROR(MATCH(\"F\",Board!QH:QH,0),\"\")","v":""},{"$f":"IFERROR(MATCH(\"F\",Board!QI:QI,0),\"\")","v":""},{"$f":"IFERROR(MATCH(\"F\",Board!QJ:QJ,0),\"\")","v":""},{"$f":"IFERROR(MATCH(\"F\",Board!QK:QK,0),\"\")","v":""},{"$f":"IFERROR(MATCH(\"F\",Board!QL:QL,0),\"\")","v":""},{"$f":"IFERROR(MATCH(\"F\",Board!QM:QM,0),\"\")","v":""},{"$f":"IFERROR(MATCH(\"F\",Board!QN:QN,0),\"\")","v":""},{"$f":"IFERROR(MATCH(\"F\",Board!QO:QO,0),\"\")","v":""},{"$f":"IFERROR(MATCH(\"F\",Board!QP:QP,0),\"\")","v":""},{"$f":"IFERROR(MATCH(\"F\",Board!QQ:QQ,0),\"\")","v":""},{"$f":"IFERROR(MATCH(\"F\",Board!QR:QR,0),\"\")","v":""},{"$f":"IFERROR(MATCH(\"F\",Board!QS:QS,0),\"\")","v":""},{"$f":"IFERROR(MATCH(\"F\",Board!QT:QT,0),\"\")","v":""},{"$f":"IFERROR(MATCH(\"F\",Board!QU:QU,0),\"\")","v":""},{"$f":"IFERROR(MATCH(\"F\",Board!QV:QV,0),\"\")","v":""},{"$f":"IFERROR(MATCH(\"F\",Board!QW:QW,0),\"\")","v":""},{"$f":"IFERROR(MATCH(\"F\",Board!QX:QX,0),\"\")","v":""},{"$f":"IFERROR(MATCH(\"F\",Board!QY:QY,0),\"\")","v":""},{"$f":"IFERROR(MATCH(\"F\",Board!QZ:QZ,0),\"\")","v":""},{"$f":"IFERROR(MATCH(\"F\",Board!RA:RA,0),\"\")","v":""},{"$f":"IFERROR(MATCH(\"F\",Board!RB:RB,0),\"\")","v":""},{"$f":"IFERROR(MATCH(\"F\",Board!RC:RC,0),\"\")","v":""},{"$f":"IFERROR(MATCH(\"F\",Board!RD:RD,0),\"\")","v":""},{"$f":"IFERROR(MATCH(\"F\",Board!RE:RE,0),\"\")","v":""},{"$f":"IFERROR(MATCH(\"F\",Board!RF:RF,0),\"\")","v":""},{"$f":"IFERROR(MATCH(\"F\",Board!RG:RG,0),\"\")","v":""},{"$f":"IFERROR(MATCH(\"F\",Board!RH:RH,0),\"\")","v":""},{"$f":"IFERROR(MATCH(\"F\",Board!RI:RI,0),\"\")","v":""},{"$f":"IFERROR(MATCH(\"F\",Board!RJ:RJ,0),\"\")","v":""},{"$f":"IFERROR(MATCH(\"F\",Board!RK:RK,0),\"\")","v":""},{"$f":"IFERROR(MATCH(\"F\",Board!RL:RL,0),\"\")","v":""},{"$f":"IFERROR(MATCH(\"F\",Board!RM:RM,0),\"\")","v":""},{"$f":"IFERROR(MATCH(\"F\",Board!RN:RN,0),\"\")","v":""},{"$f":"IFERROR(MATCH(\"F\",Board!RO:RO,0),\"\")","v":""},{"$f":"IFERROR(MATCH(\"F\",Board!RP:RP,0),\"\")","v":""},{"$f":"IFERROR(MATCH(\"F\",Board!RQ:RQ,0),\"\")","v":""},{"$f":"IFERROR(MATCH(\"F\",Board!RR:RR,0),\"\")","v":""},{"$f":"IFERROR(MATCH(\"F\",Board!RS:RS,0),\"\")","v":""},{"$f":"IFERROR(MATCH(\"F\",Board!RT:RT,0),\"\")","v":""},{"$f":"IFERROR(MATCH(\"F\",Board!RU:RU,0),\"\")","v":""},{"$f":"IFERROR(MATCH(\"F\",Board!RV:RV,0),\"\")","v":""},{"$f":"IFERROR(MATCH(\"F\",Board!RW:RW,0),\"\")","v":""},{"$f":"IFERROR(MATCH(\"F\",Board!RX:RX,0),\"\")","v":""},{"$f":"IFERROR(MATCH(\"F\",Board!RY:RY,0),\"\")","v":""},{"$f":"IFERROR(MATCH(\"F\",Board!RZ:RZ,0),\"\")","v":""},{"$f":"IFERROR(MATCH(\"F\",Board!SA:SA,0),\"\")","v":""},{"$f":"IFERROR(MATCH(\"F\",Board!SB:SB,0),\"\")","v":""},{"$f":"IFERROR(MATCH(\"F\",Board!SC:SC,0),\"\")","v":""},{"$f":"IFERROR(MATCH(\"F\",Board!SD:SD,0),\"\")","v":""},{"$f":"IFERROR(MATCH(\"F\",Board!SE:SE,0),\"\")","v":""},{"$f":"IFERROR(MATCH(\"F\",Board!SF:SF,0),\"\")","v":""},{"$f":"IFERROR(MATCH(\"F\",Board!SG:SG,0),\"\")","v":""},{"$f":"IFERROR(MATCH(\"F\",Board!SH:SH,0),\"\")","v":""},{"$f":"IFERROR(MATCH(\"F\",Board!SI:SI,0),\"\")","v":""},{"$f":"IFERROR(MATCH(\"F\",Board!SJ:SJ,0),\"\")","v":""},{"$f":"IFERROR(MATCH(\"F\",Board!SK:SK,0),\"\")","v":""},{"$f":"IFERROR(MATCH(\"F\",Board!SL:SL,0),\"\")","v":""},{"$f":"IFERROR(MATCH(\"F\",Board!SM:SM,0),\"\")","v":""},{"$f":"IFERROR(MATCH(\"F\",Board!SN:SN,0),\"\")","v":""},{"$f":"IFERROR(MATCH(\"F\",Board!SO:SO,0),\"\")","v":""},{"$f":"IFERROR(MATCH(\"F\",Board!SP:SP,0),\"\")","v":""},{"$f":"IFERROR(MATCH(\"F\",Board!SQ:SQ,0),\"\")","v":""},{"$f":"IFERROR(MATCH(\"F\",Board!SR:SR,0),\"\")","v":""},{"$f":"IFERROR(MATCH(\"F\",Board!SS:SS,0),\"\")","v":""},{"$f":"IFERROR(MATCH(\"F\",Board!ST:ST,0),\"\")","v":""},{"$f":"IFERROR(MATCH(\"F\",Board!SU:SU,0),\"\")","v":""},{"$f":"IFERROR(MATCH(\"F\",Board!SV:SV,0),\"\")","v":""},{"$f":"IFERROR(MATCH(\"F\",Board!SW:SW,0),\"\")","v":""},{"$f":"IFERROR(MATCH(\"F\",Board!SX:SX,0),\"\")","v":""},{"$f":"IFERROR(MATCH(\"F\",Board!SY:SY,0),\"\")","v":""},{"$f":"IFERROR(MATCH(\"F\",Board!SZ:SZ,0),\"\")","v":""},{"$f":"IFERROR(MATCH(\"F\",Board!TA:TA,0),\"\")","v":""},{"$f":"IFERROR(MATCH(\"F\",Board!TB:TB,0),\"\")","v":""},{"$f":"IFERROR(MATCH(\"F\",Board!TC:TC,0),\"\")","v":""},{"$f":"IFERROR(MATCH(\"F\",Board!TD:TD,0),\"\")","v":""},{"$f":"IFERROR(MATCH(\"F\",Board!TE:TE,0),\"\")","v":""},{"$f":"IFERROR(MATCH(\"F\",Board!TF:TF,0),\"\")","v":""},{"$f":"IFERROR(MATCH(\"F\",Board!TG:TG,0),\"\")","v":""},{"$f":"IFERROR(MATCH(\"F\",Board!TH:TH,0),\"\")","v":""},{"$f":"IFERROR(MATCH(\"F\",Board!TI:TI,0),\"\")","v":""},{"$f":"IFERROR(MATCH(\"F\",Board!TJ:TJ,0),\"\")","v":""},{"$f":"IFERROR(MATCH(\"F\",Board!TK:TK,0),\"\")","v":""},{"$f":"IFERROR(MATCH(\"F\",Board!TL:TL,0),\"\")","v":""},{"$f":"IFERROR(MATCH(\"F\",Board!TM:TM,0),\"\")","v":""},{"$f":"IFERROR(MATCH(\"F\",Board!TN:TN,0),\"\")","v":""},{"$f":"IFERROR(MATCH(\"F\",Board!TO:TO,0),\"\")","v":""},{"$f":"IFERROR(MATCH(\"F\",Board!TP:TP,0),\"\")","v":""},{"$f":"IFERROR(MATCH(\"F\",Board!TQ:TQ,0),\"\")","v":""},{"$f":"IFERROR(MATCH(\"F\",Board!TR:TR,0),\"\")","v":""},{"$f":"IFERROR(MATCH(\"F\",Board!TS:TS,0),\"\")","v":""},{"$f":"IFERROR(MATCH(\"F\",Board!TT:TT,0),\"\")","v":""},{"$f":"IFERROR(MATCH(\"F\",Board!TU:TU,0),\"\")","v":""},{"$f":"IFERROR(MATCH(\"F\",Board!TV:TV,0),\"\")","v":""},{"$f":"IFERROR(MATCH(\"F\",Board!TW:TW,0),\"\")","v":""},{"$f":"IFERROR(MATCH(\"F\",Board!TX:TX,0),\"\")","v":""},{"$f":"IFERROR(MATCH(\"F\",Board!TY:TY,0),\"\")","v":""},{"$f":"IFERROR(MATCH(\"F\",Board!TZ:TZ,0),\"\")","v":""},{"$f":"IFERROR(MATCH(\"F\",Board!UA:UA,0),\"\")","v":""},{"$f":"IFERROR(MATCH(\"F\",Board!UB:UB,0),\"\")","v":""},{"$f":"IFERROR(MATCH(\"F\",Board!UC:UC,0),\"\")","v":""},{"$f":"IFERROR(MATCH(\"F\",Board!UD:UD,0),\"\")","v":""},{"$f":"IFERROR(MATCH(\"F\",Board!UE:UE,0),\"\")","v":""},{"$f":"IFERROR(MATCH(\"F\",Board!UF:UF,0),\"\")","v":""},{"$f":"IFERROR(MATCH(\"F\",Board!UG:UG,0),\"\")","v":""},{"$f":"IFERROR(MATCH(\"F\",Board!UH:UH,0),\"\")","v":""},{"$f":"IFERROR(MATCH(\"F\",Board!UI:UI,0),\"\")","v":""},{"$f":"IFERROR(MATCH(\"F\",Board!UJ:UJ,0),\"\")","v":""},{"$f":"IFERROR(MATCH(\"F\",Board!UK:UK,0),\"\")","v":""},{"$f":"IFERROR(MATCH(\"F\",Board!UL:UL,0),\"\")","v":""},{"$f":"IFERROR(MATCH(\"F\",Board!UM:UM,0),\"\")","v":""},{"$f":"IFERROR(MATCH(\"F\",Board!UN:UN,0),\"\")","v":""},{"$f":"IFERROR(MATCH(\"F\",Board!UO:UO,0),\"\")","v":""},{"$f":"IFERROR(MATCH(\"F\",Board!UP:UP,0),\"\")","v":""},{"$f":"IFERROR(MATCH(\"F\",Board!UQ:UQ,0),\"\")","v":""},{"$f":"IFERROR(MATCH(\"F\",Board!UR:UR,0),\"\")","v":""},{"$f":"IFERROR(MATCH(\"F\",Board!US:US,0),\"\")","v":""},{"$f":"IFERROR(MATCH(\"F\",Board!UT:UT,0),\"\")","v":""},{"$f":"IFERROR(MATCH(\"F\",Board!UU:UU,0),\"\")","v":""},{"$f":"IFERROR(MATCH(\"F\",Board!UV:UV,0),\"\")","v":""},{"$f":"IFERROR(MATCH(\"F\",Board!UW:UW,0),\"\")","v":""},{"$f":"IFERROR(MATCH(\"F\",Board!UX:UX,0),\"\")","v":""},{"$f":"IFERROR(MATCH(\"F\",Board!UY:UY,0),\"\")","v":""},{"$f":"IFERROR(MATCH(\"F\",Board!UZ:UZ,0),\"\")","v":""},{"$f":"IFERROR(MATCH(\"F\",Board!VA:VA,0),\"\")","v":""},{"$f":"IFERROR(MATCH(\"F\",Board!VB:VB,0),\"\")","v":""},{"$f":"IFERROR(MATCH(\"F\",Board!VC:VC,0),\"\")","v":""},{"$f":"IFERROR(MATCH(\"F\",Board!VD:VD,0),\"\")","v":""},{"$f":"IFERROR(MATCH(\"F\",Board!VE:VE,0),\"\")","v":""},{"$f":"IFERROR(MATCH(\"F\",Board!VF:VF,0),\"\")","v":""},{"$f":"IFERROR(MATCH(\"F\",Board!VG:VG,0),\"\")","v":""},{"$f":"IFERROR(MATCH(\"F\",Board!VH:VH,0),\"\")","v":""},{"$f":"IFERROR(MATCH(\"F\",Board!VI:VI,0),\"\")","v":""},{"$f":"IFERROR(MATCH(\"F\",Board!VJ:VJ,0),\"\")","v":""},{"$f":"IFERROR(MATCH(\"F\",Board!VK:VK,0),\"\")","v":""},{"$f":"IFERROR(MATCH(\"F\",Board!VL:VL,0),\"\")","v":""},{"$f":"IFERROR(MATCH(\"F\",Board!VM:VM,0),\"\")","v":""},{"$f":"IFERROR(MATCH(\"F\",Board!VN:VN,0),\"\")","v":""},{"$f":"IFERROR(MATCH(\"F\",Board!VO:VO,0),\"\")","v":""},{"$f":"IFERROR(MATCH(\"F\",Board!VP:VP,0),\"\")","v":""},{"$f":"IFERROR(MATCH(\"F\",Board!VQ:VQ,0),\"\")","v":""},{"$f":"IFERROR(MATCH(\"F\",Board!VR:VR,0),\"\")","v":""},{"$f":"IFERROR(MATCH(\"F\",Board!VS:VS,0),\"\")","v":""},{"$f":"IFERROR(MATCH(\"F\",Board!VT:VT,0),\"\")","v":""},{"$f":"IFERROR(MATCH(\"F\",Board!VU:VU,0),\"\")","v":""},{"$f":"IFERROR(MATCH(\"F\",Board!VV:VV,0),\"\")","v":""},{"$f":"IFERROR(MATCH(\"F\",Board!VW:VW,0),\"\")","v":""},{"$f":"IFERROR(MATCH(\"F\",Board!VX:VX,0),\"\")","v":""},{"$f":"IFERROR(MATCH(\"F\",Board!VY:VY,0),\"\")","v":""},{"$f":"IFERROR(MATCH(\"F\",Board!VZ:VZ,0),\"\")","v":""},{"$f":"IFERROR(MATCH(\"F\",Board!WA:WA,0),\"\")","v":""},{"$f":"IFERROR(MATCH(\"F\",Board!WB:WB,0),\"\")","v":""},{"$f":"IFERROR(MATCH(\"F\",Board!WC:WC,0),\"\")","v":""},{"$f":"IFERROR(MATCH(\"F\",Board!WD:WD,0),\"\")","v":""},{"$f":"IFERROR(MATCH(\"F\",Board!WE:WE,0),\"\")","v":""},{"$f":"IFERROR(MATCH(\"F\",Board!WF:WF,0),\"\")","v":""},{"$f":"IFERROR(MATCH(\"F\",Board!WG:WG,0),\"\")","v":""},{"$f":"IFERROR(MATCH(\"F\",Board!WH:WH,0),\"\")","v":""},{"$f":"IFERROR(MATCH(\"F\",Board!WI:WI,0),\"\")","v":""},{"$f":"IFERROR(MATCH(\"F\",Board!WJ:WJ,0),\"\")","v":""},{"$f":"IFERROR(MATCH(\"F\",Board!WK:WK,0),\"\")","v":""},{"$f":"IFERROR(MATCH(\"F\",Board!WL:WL,0),\"\")","v":""},{"$f":"IFERROR(MATCH(\"F\",Board!WM:WM,0),\"\")","v":""},{"$f":"IFERROR(MATCH(\"F\",Board!WN:WN,0),\"\")","v":""},{"$f":"IFERROR(MATCH(\"F\",Board!WO:WO,0),\"\")","v":""},{"$f":"IFERROR(MATCH(\"F\",Board!WP:WP,0),\"\")","v":""},{"$f":"IFERROR(MATCH(\"F\",Board!WQ:WQ,0),\"\")","v":""},{"$f":"IFERROR(MATCH(\"F\",Board!WR:WR,0),\"\")","v":""},{"$f":"IFERROR(MATCH(\"F\",Board!WS:WS,0),\"\")","v":""},{"$f":"IFERROR(MATCH(\"F\",Board!WT:WT,0),\"\")","v":""},{"$f":"IFERROR(MATCH(\"F\",Board!WU:WU,0),\"\")","v":""},{"$f":"IFERROR(MATCH(\"F\",Board!WV:WV,0),\"\")","v":""},{"$f":"IFERROR(MATCH(\"F\",Board!WW:WW,0),\"\")","v":""},{"$f":"IFERROR(MATCH(\"F\",Board!WX:WX,0),\"\")","v":""},{"$f":"IFERROR(MATCH(\"F\",Board!WY:WY,0),\"\")","v":""},{"$f":"IFERROR(MATCH(\"F\",Board!WZ:WZ,0),\"\")","v":""},{"$f":"IFERROR(MATCH(\"F\",Board!XA:XA,0),\"\")","v":""},{"$f":"IFERROR(MATCH(\"F\",Board!XB:XB,0),\"\")","v":""},{"$f":"IFERROR(MATCH(\"F\",Board!XC:XC,0),\"\")","v":""},{"$f":"IFERROR(MATCH(\"F\",Board!XD:XD,0),\"\")","v":""},{"$f":"IFERROR(MATCH(\"F\",Board!XE:XE,0),\"\")","v":""},{"$f":"IFERROR(MATCH(\"F\",Board!XF:XF,0),\"\")","v":""},{"$f":"IFERROR(MATCH(\"F\",Board!XG:XG,0),\"\")","v":""},{"$f":"IFERROR(MATCH(\"F\",Board!XH:XH,0),\"\")","v":""},{"$f":"IFERROR(MATCH(\"F\",Board!XI:XI,0),\"\")","v":""},{"$f":"IFERROR(MATCH(\"F\",Board!XJ:XJ,0),\"\")","v":""},{"$f":"IFERROR(MATCH(\"F\",Board!XK:XK,0),\"\")","v":""},{"$f":"IFERROR(MATCH(\"F\",Board!XL:XL,0),\"\")","v":""},{"$f":"IFERROR(MATCH(\"F\",Board!XM:XM,0),\"\")","v":""},{"$f":"IFERROR(MATCH(\"F\",Board!XN:XN,0),\"\")","v":""},{"$f":"IFERROR(MATCH(\"F\",Board!XO:XO,0),\"\")","v":""},{"$f":"IFERROR(MATCH(\"F\",Board!XP:XP,0),\"\")","v":""},{"$f":"IFERROR(MATCH(\"F\",Board!XQ:XQ,0),\"\")","v":""},{"$f":"IFERROR(MATCH(\"F\",Board!XR:XR,0),\"\")","v":""},{"$f":"IFERROR(MATCH(\"F\",Board!XS:XS,0),\"\")","v":""},{"$f":"IFERROR(MATCH(\"F\",Board!XT:XT,0),\"\")","v":""},{"$f":"IFERROR(MATCH(\"F\",Board!XU:XU,0),\"\")","v":""},{"$f":"IFERROR(MATCH(\"F\",Board!XV:XV,0),\"\")","v":""},{"$f":"IFERROR(MATCH(\"F\",Board!XW:XW,0),\"\")","v":""},{"$f":"IFERROR(MATCH(\"F\",Board!XX:XX,0),\"\")","v":""},{"$f":"IFERROR(MATCH(\"F\",Board!XY:XY,0),\"\")","v":""},{"$f":"IFERROR(MATCH(\"F\",Board!XZ:XZ,0),\"\")","v":""},{"$f":"IFERROR(MATCH(\"F\",Board!YA:YA,0),\"\")","v":""},{"$f":"IFERROR(MATCH(\"F\",Board!YB:YB,0),\"\")","v":""},{"$f":"IFERROR(MATCH(\"F\",Board!YC:YC,0),\"\")","v":""},{"$f":"IFERROR(MATCH(\"F\",Board!YD:YD,0),\"\")","v":""},{"$f":"IFERROR(MATCH(\"F\",Board!YE:YE,0),\"\")","v":""},{"$f":"IFERROR(MATCH(\"F\",Board!YF:YF,0),\"\")","v":""},{"$f":"IFERROR(MATCH(\"F\",Board!YG:YG,0),\"\")","v":""},{"$f":"IFERROR(MATCH(\"F\",Board!YH:YH,0),\"\")","v":""},{"$f":"IFERROR(MATCH(\"F\",Board!YI:YI,0),\"\")","v":""},{"$f":"IFERROR(MATCH(\"F\",Board!YJ:YJ,0),\"\")","v":""},{"$f":"IFERROR(MATCH(\"F\",Board!YK:YK,0),\"\")","v":""},{"$f":"IFERROR(MATCH(\"F\",Board!YL:YL,0),\"\")","v":""},{"$f":"IFERROR(MATCH(\"F\",Board!YM:YM,0),\"\")","v":""},{"$f":"IFERROR(MATCH(\"F\",Board!YN:YN,0),\"\")","v":""},{"$f":"IFERROR(MATCH(\"F\",Board!YO:YO,0),\"\")","v":""},{"$f":"IFERROR(MATCH(\"F\",Board!YP:YP,0),\"\")","v":""},{"$f":"IFERROR(MATCH(\"F\",Board!YQ:YQ,0),\"\")","v":""},{"$f":"IFERROR(MATCH(\"F\",Board!YR:YR,0),\"\")","v":""},{"$f":"IFERROR(MATCH(\"F\",Board!YS:YS,0),\"\")","v":""},{"$f":"IFERROR(MATCH(\"F\",Board!YT:YT,0),\"\")","v":""},{"$f":"IFERROR(MATCH(\"F\",Board!YU:YU,0),\"\")","v":""},{"$f":"IFERROR(MATCH(\"F\",Board!YV:YV,0),\"\")","v":""},{"$f":"IFERROR(MATCH(\"F\",Board!YW:YW,0),\"\")","v":""},{"$f":"IFERROR(MATCH(\"F\",Board!YX:YX,0),\"\")","v":""},{"$f":"IFERROR(MATCH(\"F\",Board!YY:YY,0),\"\")","v":""},{"$f":"IFERROR(MATCH(\"F\",Board!YZ:YZ,0),\"\")","v":""},{"$f":"IFERROR(MATCH(\"F\",Board!ZA:ZA,0),\"\")","v":""},{"$f":"IFERROR(MATCH(\"F\",Board!ZB:ZB,0),\"\")","v":""},{"$f":"IFERROR(MATCH(\"F\",Board!ZC:ZC,0),\"\")","v":""},{"$f":"IFERROR(MATCH(\"F\",Board!ZD:ZD,0),\"\")","v":""},{"$f":"IFERROR(MATCH(\"F\",Board!ZE:ZE,0),\"\")","v":""},{"$f":"IFERROR(MATCH(\"F\",Board!ZF:ZF,0),\"\")","v":""},{"$f":"IFERROR(MATCH(\"F\",Board!ZG:ZG,0),\"\")","v":""},{"$f":"IFERROR(MATCH(\"F\",Board!ZH:ZH,0),\"\")","v":""},{"$f":"IFERROR(MATCH(\"F\",Board!ZI:ZI,0),\"\")","v":""},{"$f":"IFERROR(MATCH(\"F\",Board!ZJ:ZJ,0),\"\")","v":""},{"$f":"IFERROR(MATCH(\"F\",Board!ZK:ZK,0),\"\")","v":""},{"$f":"IFERROR(MATCH(\"F\",Board!ZL:ZL,0),\"\")","v":""},{"$f":"IFERROR(MATCH(\"F\",Board!ZM:ZM,0),\"\")","v":""},{"$f":"IFERROR(MATCH(\"F\",Board!ZN:ZN,0),\"\")","v":""},{"$f":"IFERROR(MATCH(\"F\",Board!ZO:ZO,0),\"\")","v":""},{"$f":"IFERROR(MATCH(\"F\",Board!ZP:ZP,0),\"\")","v":""},{"$f":"IFERROR(MATCH(\"F\",Board!ZQ:ZQ,0),\"\")","v":""},{"$f":"IFERROR(MATCH(\"F\",Board!ZR:ZR,0),\"\")","v":""},{"$f":"IFERROR(MATCH(\"F\",Board!ZS:ZS,0),\"\")","v":""},{"$f":"IFERROR(MATCH(\"F\",Board!ZT:ZT,0),\"\")","v":""},{"$f":"IFERROR(MATCH(\"F\",Board!ZU:ZU,0),\"\")","v":""},{"$f":"IFERROR(MATCH(\"F\",Board!ZV:ZV,0),\"\")","v":""},{"$f":"IFERROR(MATCH(\"F\",Board!ZW:ZW,0),\"\")","v":""},{"$f":"IFERROR(MATCH(\"F\",Board!ZX:ZX,0),\"\")","v":""},{"$f":"IFERROR(MATCH(\"F\",Board!ZY:ZY,0),\"\")","v":""},{"$f":"IFERROR(MATCH(\"F\",Board!ZZ:ZZ,0),\"\")","v":""},{"$f":"IFERROR(MATCH(\"F\",Board!AAA:AAA,0),\"\")","v":""},{"$f":"IFERROR(MATCH(\"F\",Board!AAB:AAB,0),\"\")","v":""},{"$f":"IFERROR(MATCH(\"F\",Board!AAC:AAC,0),\"\")","v":""},{"$f":"IFERROR(MATCH(\"F\",Board!AAD:AAD,0),\"\")","v":""},{"$f":"IFERROR(MATCH(\"F\",Board!AAE:AAE,0),\"\")","v":""},{"$f":"IFERROR(MATCH(\"F\",Board!AAF:AAF,0),\"\")","v":""},{"$f":"IFERROR(MATCH(\"F\",Board!AAG:AAG,0),\"\")","v":""},{"$f":"IFERROR(MATCH(\"F\",Board!AAH:AAH,0),\"\")","v":""},{"$f":"IFERROR(MATCH(\"F\",Board!AAI:AAI,0),\"\")","v":""},{"$f":"IFERROR(MATCH(\"F\",Board!AAJ:AAJ,0),\"\")","v":""},{"$f":"IFERROR(MATCH(\"F\",Board!AAK:AAK,0),\"\")","v":""},{"$f":"IFERROR(MATCH(\"F\",Board!AAL:AAL,0),\"\")","v":""},{"$f":"IFERROR(MATCH(\"F\",Board!AAM:AAM,0),\"\")","v":""},{"$f":"IFERROR(MATCH(\"F\",Board!AAN:AAN,0),\"\")","v":""},{"$f":"IFERROR(MATCH(\"F\",Board!AAO:AAO,0),\"\")","v":""},{"$f":"IFERROR(MATCH(\"F\",Board!AAP:AAP,0),\"\")","v":""},{"$f":"IFERROR(MATCH(\"F\",Board!AAQ:AAQ,0),\"\")","v":""},{"$f":"IFERROR(MATCH(\"F\",Board!AAR:AAR,0),\"\")","v":""},{"$f":"IFERROR(MATCH(\"F\",Board!AAS:AAS,0),\"\")","v":""},{"$f":"IFERROR(MATCH(\"F\",Board!AAT:AAT,0),\"\")","v":""},{"$f":"IFERROR(MATCH(\"F\",Board!AAU:AAU,0),\"\")","v":""},{"$f":"IFERROR(MATCH(\"F\",Board!AAV:AAV,0),\"\")","v":""},{"$f":"IFERROR(MATCH(\"F\",Board!AAW:AAW,0),\"\")","v":""},{"$f":"IFERROR(MATCH(\"F\",Board!AAX:AAX,0),\"\")","v":""},{"$f":"IFERROR(MATCH(\"F\",Board!AAY:AAY,0),\"\")","v":""},{"$f":"IFERROR(MATCH(\"F\",Board!AAZ:AAZ,0),\"\")","v":""}]
[{"$f":"SUM(10:10)","v":7},"Start Row"]
[{"$f":"MATCH(SUM(10:10),10:10,0)","v":14},"Start Column"]